BEGIN:VCALENDAR
VERSION:2.0
PRODID:-//ChamberMaster//Event Calendar 2.0//EN
METHOD:PUBLISH
X-PUBLISHED-TTL:P3D
REFRESH-INTERVAL:P3D
CALSCALE:GREGORIAN
BEGIN:VEVENT
DTSTART:20180602T120000Z
DTEND:20180602T190000Z
X-MICROSOFT-CDO-ALLDAYEVENT:FALSE
SUMMARY:Pullin' for Stella
DESCRIPTION:Sporting Clay Shoot to Benefit Stella Bedbetter and family. Registration April 8th- May 25th (Day of not guaranteed) Register at CampManna.org $75/person. Checks made payable to Mindy Ledbetter Mail to Pullin' for Stella at 3362 Hwy. 601 S. Mocksville\, NC 27028 For additional details please visit www.facebook.com/pullinforstella Individual Competition- 100 Clay Shoot (multiple stations and styles) 16 years old+ (10-15 accompanied with adult) Prizes awarded for top 3 in age group Shells provided by shooter Ear and eye protection required 5 Stand All-Day Competition (not included in registration price) Hunting Dogs demonstrations.\n\nLunch included in registration\, all others donation only
X-ALT-DESC;FMTTYPE=text/html:Sporting Clay Shoot to Benefit Stella Bedbetter and family. Registration April 8th- May 25th (Day of not guaranteed) Register at CampManna.org $75/person. Checks made payable to Mindy Ledbetter Mail to Pullin&#39\; for Stella at 3362 Hwy. 601 S. Mocksville\, NC 27028 For additional details please visit www.facebook.com/pullinforstella Individual Competition- 100 Clay Shoot (multiple stations and styles) 16 years old+ (10-15 accompanied with adult) Prizes awarded for top 3 in age group Shells provided by shooter Ear and eye protection required 5 Stand All-Day Competition (not included in registration price) Hunting Dogs demonstrations.<br />\nLunch included in registration\, all others donation only
LOCATION:Camp Manna 243 Gibson Way Mocksville
UID:e.2378.14072
SEQUENCE:3
DTSTAMP:20260421T130459Z
URL:https://business.daviechamber.com/events/details/pullin-for-stella-14072
END:VEVENT

END:VCALENDAR
