BEGIN:VCALENDAR
VERSION:2.0
PRODID:-//ChamberMaster//Event Calendar 2.0//EN
METHOD:PUBLISH
X-PUBLISHED-TTL:P3D
REFRESH-INTERVAL:P3D
CALSCALE:GREGORIAN
BEGIN:VEVENT
DTSTART:20250315T150000Z
DTEND:20250315T160000Z
X-MICROSOFT-CDO-ALLDAYEVENT:FALSE
SUMMARY:Puppies & Yoga | Breathe Yoga Studio
DESCRIPTION:Puppies & Yoga is back! Humane Society of Davie County has 8 adorable pups around 8 weeks old that will be joining us for yoga! Tickets are $20 and 100% of the ticket sales will be donated directly to HSDC. Limited spots available\, grab your tickets below -\n\nhttps://www.breatheyogastudionc.com/event.../puppies-yoga-1
X-ALT-DESC;FMTTYPE=text/html:<div class="xdj266r x11i5rnm xat24cr x1mh8g0r x1vvkbs" style="margin: 0px\; overflow-wrap: break-word\; font-family: &quot\;Segoe UI Historic&quot\;\, &quot\;Segoe UI&quot\;\, Helvetica\, Arial\, sans-serif\; color: rgb(8\, 8\, 9)\; font-size: 15px\;"><span style="font-size:18px\;"><span style="font-family:tahoma\;"><span style="color:#000000\;">Puppies &amp\; Yoga is back! Humane Society of Davie County has 8 adorable pups around 8 weeks old that will be joining us for yoga! Tickets are $20 and 100% of the ticket sales will be donated directly to HSDC. Limited spots available\, grab your tickets below -</span></span></span></div>\n\n<div class="x11i5rnm xat24cr x1mh8g0r x1vvkbs xtlvy1s" style="margin: 0.5em 0px 0px\; overflow-wrap: break-word\; font-family: &quot\;Segoe UI Historic&quot\;\, &quot\;Segoe UI&quot\;\, Helvetica\, Arial\, sans-serif\; color: rgb(8\, 8\, 9)\; font-size: 15px\;"><span style="font-size:18px\;"><span style="font-family:tahoma\;"><a attributionsrc="/privacy_sandbox/comet/register/source/?xt=AZWQPezSJrgPi44BBbHwmj6miPpc_oC2Dsj9-wPwgkEviKv_N3Arw8TekLEFTlYEq2CLW5-9d3dmN_SE6pYb-GHkwfJqcLQU0kaatIFESKq0mxlOFIbZJYVfalHE8xl0M2Mhkl73alV0kZVpUfrXvmizL0jg3lIBTxFjXNZgHT11zXsqXkgeA6ncG24N4FWAa-X7oaAB_np5Zw3TJh_htRzTpeJrn9kmShzBYw1FjcF3cZ7Sn2tuB0dAX1yCnHU0vNRpsuX_Lq0h7g5lzqITVRnzyCTqz8tKIt9UY9aRcLfDMmzHMMwoyHWNuYst72Ir7wOiLnFCIEeSdsjL0i6NQChqVfNJ2KzDIK1SlYk4ACqAaZ6wfnw8RmyQmOBwfEJi6srwg4n0c64JELIDt1fUlA5Bb0nN6GZlkFNQceq16oeCoxFIL4FJ6LflisZmhcZ-SAwnPUTK6PU8sT9TFx0hT0aP8NRs4uO6d2wyIoZwOJ-3JTW1_y3esfTmG2gQchqjEYu_wegIwGDPqyc6b-EgZyRFnWBxxyoWC9XxNbwkRTkEYWzOAn_w5cIN8Ri_SaJz1eqjBYI-JLgwqEIa8xjJDllR9oQB-MAKAfPauEv0fZUUQ5CbIym-bd5hgPnKgzwt7f5LZgH28lryWbhoc3Iy1xfz58dMnI5ngNY2sxLnWETkf6iP3DW3NJU63SvDoRLF84iEfyCKuI8CH2wmk3KV0IJMTH4wmtwqzrncVFeX6DYY32crHBciyCh-E9JgbDRY_U2AGRYQBq2E7IfaqvzUJ0GR65vg9sCqz_3NfCLnV_eTsWlipCft505XJqpi04AqRhpCQW2sd4HV894yebUYUe28DxbDXJSJ6WyOTkbdzcRH-w" class="x1i10hfl xjbqb8w x1ejq31n xd10rxx x1sy0etr x17r0tee x972fbf xcfux6l x1qhh985 xm0m39n x9f619 x1ypdohk xt0psk2 xe8uvvx xdj266r x11i5rnm xat24cr x1mh8g0r xexx8yu x4uap5 x18d9i69 xkhd6sd x16tdsg8 x1hl2dhg xggy1nq x1a2a7pz xkrqix3 x1sur9pj x1fey0fg x1s688f" href="https://www.breatheyogastudionc.com/event-details-registration/puppies-yoga-1?fbclid=IwZXh0bgNhZW0CMTAAAR0h9pdSmTN9HbA0E7l-fcPZmhzsdvSudnbqsHW8wby9ge8UZKkjTZBS4RQ_aem_COrJghlU71a-a9V6_qJZWw" rel="nofollow noreferrer" role="link" style="color: var(--blue-link)\; cursor: pointer\; text-decoration-line: none\; list-style: none\; margin: 0px\; text-align: inherit\; border-style: none\; padding: 0px\; box-sizing: border-box\; border-width: 0px\; outline: none\; -webkit-tap-highlight-color: transparent\; font-weight: 600\; touch-action: manipulation\; background-color: transparent\; display: inline\; font-family: inherit\;" tabindex="0" target="_blank"><span style="color:#000000\;">https://www.breatheyogastudionc.com/event.../puppies-yoga-1</span></a><span style="color:#000000\;">&nbsp\;</span></span></span></div>\n
LOCATION:Breathe Yoga Studio
UID:e.2378.25345
SEQUENCE:3
DTSTAMP:20260426T034736Z
URL:https://business.daviechamber.com/events/details/puppies-yoga-breathe-yoga-studio-25345
END:VEVENT

END:VCALENDAR
