BEGIN:VCALENDAR
VERSION:2.0
PRODID:-//ChamberMaster//Event Calendar 2.0//EN
METHOD:PUBLISH
X-PUBLISHED-TTL:P3D
REFRESH-INTERVAL:P3D
CALSCALE:GREGORIAN
BEGIN:VEVENT
DTSTART:20160214T220000Z
DTEND:20160215T020000Z
X-MICROSOFT-CDO-ALLDAYEVENT:FALSE
SUMMARY:Purple Reign Valentines Fundraising Banquet
DESCRIPTION:Participate in this wonderful fundraising opportunity. Great entertainment\, delicious food\, and Games/Door Prizes.\n\n\n\nAll proceeds are for The House of Refuge.
X-ALT-DESC;FMTTYPE=text/html:Participate in this wonderful fundraising opportunity. Great entertainment\, delicious food\, and Games/Door Prizes.<br />\n<br />\n<em>All proceeds are for The House of Refuge.</em>
LOCATION:The Village Inn Hotel & Event Center 6205 Ramada Dr.\, Clemmons
UID:e.2378.4576
SEQUENCE:3
DTSTAMP:20260423T055158Z
URL:https://business.daviechamber.com/events/details/purple-reign-valentines-fundraising-banquet-02-14-2016-4576
END:VEVENT

END:VCALENDAR
