BEGIN:VCALENDAR
VERSION:2.0
PRODID:-//ChamberMaster//Event Calendar 2.0//EN
METHOD:PUBLISH
X-PUBLISHED-TTL:P3D
REFRESH-INTERVAL:P3D
CALSCALE:GREGORIAN
BEGIN:VEVENT
DTSTART:20230819T220000Z
DTEND:20230820T010000Z
X-MICROSOFT-CDO-ALLDAYEVENT:FALSE
SUMMARY:Pushin' Georgia Live at TPC
DESCRIPTION:Let's rock on Saturday the 19th!
X-ALT-DESC;FMTTYPE=text/html:<span style="color:#333333\;"><span style="font-size:18px\;"><span style="font-family:tahoma\;">Let&rsquo\;s rock on Saturday the 19th!&nbsp\;</span></span></span>
LOCATION:Tanglewood Pizza Company
UID:e.2378.23195
SEQUENCE:3
DTSTAMP:20260425T214222Z
URL:https://business.daviechamber.com/events/details/pushin-georgia-live-at-tpc-23195
END:VEVENT

END:VCALENDAR
