BEGIN:VCALENDAR
VERSION:2.0
PRODID:-//ChamberMaster//Event Calendar 2.0//EN
METHOD:PUBLISH
X-PUBLISHED-TTL:P3D
REFRESH-INTERVAL:P3D
CALSCALE:GREGORIAN
BEGIN:VEVENT
DTSTART:20240720T220000Z
DTEND:20240721T010000Z
X-MICROSOFT-CDO-ALLDAYEVENT:FALSE
SUMMARY:Pushin' Georgia | Tanglewood Pizza Company
DESCRIPTION:Beat the heat inside with us at TPC. Great food and drinks!!
X-ALT-DESC;FMTTYPE=text/html:<span style="font-size:18px\;"><span style="font-family:tahoma\;"><span style="color:#000000\;">Beat the heat inside with us at TPC. Great food and drinks!!</span></span></span>
LOCATION:Tanglewood Pizza Company
UID:e.2378.24493
SEQUENCE:3
DTSTAMP:20260421T055558Z
URL:https://business.daviechamber.com/events/details/pushin-georgia-tanglewood-pizza-company-24493
END:VEVENT

END:VCALENDAR
