BEGIN:VCALENDAR
VERSION:2.0
PRODID:-//ChamberMaster//Event Calendar 2.0//EN
METHOD:PUBLISH
X-PUBLISHED-TTL:P3D
REFRESH-INTERVAL:P3D
CALSCALE:GREGORIAN
BEGIN:VEVENT
DTSTART:20250410T140000Z
DTEND:20250410T190000Z
X-MICROSOFT-CDO-ALLDAYEVENT:FALSE
SUMMARY:Putt for Popcorn at Lydia Jaynes
DESCRIPTION:In honor of The Masters:\n\nSpend $50 or more instore\, make a putt\, and grab a FREE bag of Poppy Popcorn!\n\nIt's a great way to try a new flavor - and have a lot of fun!
X-ALT-DESC;FMTTYPE=text/html:<span style="font-size:18px\;"><span style="font-family:tahoma\;"><span style="color:#000000\;">In honor of The Masters:<br class="html-br" style="color: rgb(8\, 8\, 9)\; font-family: &quot\;Segoe UI Historic&quot\;\, &quot\;Segoe UI&quot\;\, Helvetica\, Arial\, sans-serif\; font-size: 15px\;" />\nSpend $50 or more instore\, make a putt\, and grab a FREE bag of Poppy Popcorn!<br class="html-br" style="color: rgb(8\, 8\, 9)\; font-family: &quot\;Segoe UI Historic&quot\;\, &quot\;Segoe UI&quot\;\, Helvetica\, Arial\, sans-serif\; font-size: 15px\;" />\nIt&#39\;s a great way to try a new flavor - and have a lot of fun!</span></span></span>
LOCATION:Lydia Jaynes
UID:e.2378.25524
SEQUENCE:3
DTSTAMP:20260426T021313Z
URL:https://business.daviechamber.com/events/details/putt-for-popcorn-at-lydia-jaynes-25524
END:VEVENT

END:VCALENDAR
