BEGIN:VCALENDAR
VERSION:2.0
PRODID:-//ChamberMaster//Event Calendar 2.0//EN
METHOD:PUBLISH
X-PUBLISHED-TTL:P3D
REFRESH-INTERVAL:P3D
CALSCALE:GREGORIAN
BEGIN:VEVENT
DTSTART:20160917T223000Z
DTEND:20160918T023000Z
X-MICROSOFT-CDO-ALLDAYEVENT:FALSE
SUMMARY:Raise the Barn for HOPE - Just HOPE's First Annual Fundraiser
DESCRIPTION:Just HOPE's Annual Fundraiser will be held at JJJ Farm this year!!  The barn is rustic and full of authentic decor perfect for our country-western theme!  Sun-dresses\, Wranglers\, and boots . . . oh my!! Come and join us for a night of good food\, good fun\, and good company . . . for a great cause!  We will have DJ Willi and Thim & Them as entertainment\, a best boot contest\, corn-hole tournaments\, a full BBQ dinner with all the fixin's\, a silent auction\, dancing\, cash bar\, and so much more!  Tickets are $40 per person or $75 per couple!  Can't wait to see everyone and "Raise the barn for HOPE" with JHI supporters!!
X-ALT-DESC;FMTTYPE=text/html:Just HOPE&#39\;s Annual Fundraiser will be held at JJJ Farm this year!! &nbsp\;The barn is rustic and full of authentic decor perfect for our country-western theme! &nbsp\;Sun-dresses\, Wranglers\, and boots . . . oh my!! Come and join us for a night of good food\, good fun\, and good company . . . for a great cause! &nbsp\;We will have DJ Willi and Thim&nbsp\;&amp\; Them as entertainment\, a best boot contest\, corn-hole tournaments\, a full BBQ dinner with all the fixin&#39\;s\, a silent auction\, dancing\, cash bar\, and so much more! &nbsp\;Tickets are $40 per person or $75 per couple! &nbsp\;Can&#39\;t wait to see everyone and &quot\;Raise the barn for HOPE&quot\; with JHI supporters!!
LOCATION:Triple J Barn Event Center 136 Triple J Lane Mocksville\, NC 27028
UID:e.2378.5485
SEQUENCE:3
DTSTAMP:20260422T185835Z
URL:https://business.daviechamber.com/events/details/raise-the-barn-for-hope-just-hope-s-first-annual-fundraiser-5485
END:VEVENT

END:VCALENDAR
