BEGIN:VCALENDAR
VERSION:2.0
PRODID:-//ChamberMaster//Event Calendar 2.0//EN
METHOD:PUBLISH
X-PUBLISHED-TTL:P3D
REFRESH-INTERVAL:P3D
CALSCALE:GREGORIAN
BEGIN:VEVENT
DTSTART:20230813T190000Z
DTEND:20230813T220000Z
X-MICROSOFT-CDO-ALLDAYEVENT:FALSE
SUMMARY:RayLen Wine School- Pairing & Etiquette Class
DESCRIPTION:Welcome to RayLen Wine School\, the perfect destination for wine enthusiasts who want to deepen their knowledge about the basics of wine\, explore the differences between white and red wines\, and discover the art of wine etiquette and pairings.\n\nJoin our very own Lori Hollingsworth\, as she leads this four-part class series and dives into a variety of topics. Throughout the class\, you will have the opportunity to ask questions and interact with your instructor\, who is passionate about wine and eager to share her knowledge with you. By the end of the course\, you will have a solid foundation in wine appreciation and be able to confidently navigate the world of wine on your own.\n\nSee the class schedule below for more information.\n\nClass Schedule:\n\nIntro to Wine- Sunday\, March 26th (Enrollment Closed)\n\nWhite Wine- Sunday\, June 25th (Enrollment Closed)\n\nPairings & Wine Etiquette- Sunday\, August 13th\n\nRed Wine- Sunday\, November 12th\n\nEach class will start at 3:00pm and last about one hour. You can enroll in each class individually based on the topic you would like to learn more about\, or you can enroll in all three of the remaining classes at once. Those who complete all 4 classes will receive a certificate of completion.\n\nEach class individually is $30\, with the exception of the pairing & etiquette class. The pairing and etiquette class is $45 and also includes a charcuterie box for you to experience wine and food pairings first hand.\n\nEnrollment is now open for the remaining 2 classes!\n\n*The 4-class bundle is NO LONGER AVAILABLE.\n\nJoin us at RayLen Wine School for an unforgettable wine-tasting experience that will expand your palate and enhance your appreciation for this timeless beverage.\n\nFor questions please call the tasting room at (336) 998-3100 or Check out our FAQs page
X-ALT-DESC;FMTTYPE=text/html:<div class="xdj266r x11i5rnm xat24cr x1mh8g0r x1vvkbs" style="margin: 0px\; overflow-wrap: break-word\; font-family: &quot\;Segoe UI Historic&quot\;\, &quot\;Segoe UI&quot\;\, Helvetica\, Arial\, sans-serif\; color: rgb(5\, 5\, 5)\; font-size: 15px\;"><span style="color:#333333\;"><span style="font-size:18px\;"><span style="font-family:tahoma\;">Welcome to RayLen Wine School\, the perfect destination for wine enthusiasts who want to deepen their knowledge about the basics of wine\, explore the differences between white and red wines\, and discover the art of wine etiquette and pairings.</span></span></span></div>\n\n<div class="x11i5rnm xat24cr x1mh8g0r x1vvkbs xtlvy1s" style="margin: 0.5em 0px 0px\; overflow-wrap: break-word\; font-family: &quot\;Segoe UI Historic&quot\;\, &quot\;Segoe UI&quot\;\, Helvetica\, Arial\, sans-serif\; color: rgb(5\, 5\, 5)\; font-size: 15px\;"><span style="color:#333333\;"><span style="font-size:18px\;"><span style="font-family:tahoma\;">Join our very own Lori Hollingsworth\, as she leads this four-part class series and dives into a variety of topics. Throughout the class\, you will have the opportunity to ask questions and interact with your instructor\, who is passionate about wine and eager to share her knowledge with you. By the end of the course\, you will have a solid foundation in wine appreciation and be able to confidently navigate the world of wine on your own.</span></span></span></div>\n\n<div class="x11i5rnm xat24cr x1mh8g0r x1vvkbs xtlvy1s" style="margin: 0.5em 0px 0px\; overflow-wrap: break-word\; font-family: &quot\;Segoe UI Historic&quot\;\, &quot\;Segoe UI&quot\;\, Helvetica\, Arial\, sans-serif\; color: rgb(5\, 5\, 5)\; font-size: 15px\;"><span style="color:#333333\;"><span style="font-size:18px\;"><span style="font-family:tahoma\;">See the class schedule below for more information.</span></span></span></div>\n\n<div class="x11i5rnm xat24cr x1mh8g0r x1vvkbs xtlvy1s" style="margin: 0.5em 0px 0px\; overflow-wrap: break-word\; font-family: &quot\;Segoe UI Historic&quot\;\, &quot\;Segoe UI&quot\;\, Helvetica\, Arial\, sans-serif\; color: rgb(5\, 5\, 5)\; font-size: 15px\;"><span style="color:#333333\;"><span style="font-size:18px\;"><span style="font-family:tahoma\;">Class Schedule:<br />\nIntro to Wine- Sunday\, March 26th (Enrollment Closed)<br />\nWhite Wine- Sunday\, June 25th (Enrollment Closed)<br />\nPairings &amp\; Wine Etiquette- Sunday\, August 13th<br />\nRed Wine- Sunday\, November 12th</span></span></span></div>\n\n<div class="x11i5rnm xat24cr x1mh8g0r x1vvkbs xtlvy1s" style="margin: 0.5em 0px 0px\; overflow-wrap: break-word\; font-family: &quot\;Segoe UI Historic&quot\;\, &quot\;Segoe UI&quot\;\, Helvetica\, Arial\, sans-serif\; color: rgb(5\, 5\, 5)\; font-size: 15px\;"><span style="color:#333333\;"><span style="font-size:18px\;"><span style="font-family:tahoma\;">Each class will start at 3:00pm and last about one hour. You can enroll in each class individually based on the topic you would like to learn more about\, or you can enroll in all three of the remaining classes at once. Those who complete all 4 classes will receive a certificate of completion.</span></span></span></div>\n\n<div class="x11i5rnm xat24cr x1mh8g0r x1vvkbs xtlvy1s" style="margin: 0.5em 0px 0px\; overflow-wrap: break-word\; font-family: &quot\;Segoe UI Historic&quot\;\, &quot\;Segoe UI&quot\;\, Helvetica\, Arial\, sans-serif\; color: rgb(5\, 5\, 5)\; font-size: 15px\;"><span style="color:#333333\;"><span style="font-size:18px\;"><span style="font-family:tahoma\;">Each class individually is $30\, with the exception of the pairing &amp\; etiquette class. The pairing and etiquette class is $45 and also includes a charcuterie box for you to experience wine and food pairings first hand.</span></span></span></div>\n\n<div class="x11i5rnm xat24cr x1mh8g0r x1vvkbs xtlvy1s" style="margin: 0.5em 0px 0px\; overflow-wrap: break-word\; font-family: &quot\;Segoe UI Historic&quot\;\, &quot\;Segoe UI&quot\;\, Helvetica\, Arial\, sans-serif\; color: rgb(5\, 5\, 5)\; font-size: 15px\;"><span style="color:#333333\;"><span style="font-size:18px\;"><span style="font-family:tahoma\;">Enrollment is now open for the remaining 2 classes!<br />\n*The 4-class bundle is NO LONGER AVAILABLE.</span></span></span></div>\n\n<div class="x11i5rnm xat24cr x1mh8g0r x1vvkbs xtlvy1s" style="margin: 0.5em 0px 0px\; overflow-wrap: break-word\; font-family: &quot\;Segoe UI Historic&quot\;\, &quot\;Segoe UI&quot\;\, Helvetica\, Arial\, sans-serif\; color: rgb(5\, 5\, 5)\; font-size: 15px\;"><span style="color:#333333\;"><span style="font-size:18px\;"><span style="font-family:tahoma\;">Join us at RayLen Wine School for an unforgettable wine-tasting experience that will expand your palate and enhance your appreciation for this timeless beverage.</span></span></span></div>\n\n<div class="x11i5rnm xat24cr x1mh8g0r x1vvkbs xtlvy1s" style="margin: 0.5em 0px 0px\; overflow-wrap: break-word\; font-family: &quot\;Segoe UI Historic&quot\;\, &quot\;Segoe UI&quot\;\, Helvetica\, Arial\, sans-serif\; color: rgb(5\, 5\, 5)\; font-size: 15px\;"><span style="color:#333333\;"><span style="font-size:18px\;"><span style="font-family:tahoma\;">For questions please call the tasting room at (336) 998-3100 or Check out our FAQs page</span></span></span></div>\n
LOCATION:RayLen Vineyards & Winery
UID:e.2378.23162
SEQUENCE:3
DTSTAMP:20260425T201441Z
URL:https://business.daviechamber.com/events/details/raylen-wine-school-pairing-etiquette-class-23162
END:VEVENT

END:VCALENDAR
