BEGIN:VCALENDAR
VERSION:2.0
PRODID:-//ChamberMaster//Event Calendar 2.0//EN
METHOD:PUBLISH
X-PUBLISHED-TTL:P3D
REFRESH-INTERVAL:P3D
CALSCALE:GREGORIAN
BEGIN:VEVENT
DTSTART:20230722T160000Z
DTEND:20230722T210000Z
X-MICROSOFT-CDO-ALLDAYEVENT:FALSE
SUMMARY:Rec Retreat Adult Field Day
DESCRIPTION:NEW: REC Retreat: Adult Field Day\n\nThink back to your favorite day of grade school...it was Field Day\, right?! We're bringing back all of your favorite games from relays to water games\, and more! Teams will compete head-to-head to determine the Champs of the REC Retreat. Don't miss out on this throwback to grade school\, but for adults! Food trucks & beverages available for purchase (west stadium concessions)!\n\nTeams will need to pre-register to participate!\n\nFee: $125 per team (Includes Team Shirt)\n\nAges: 21 and older\n\nTeam Info: Coed Teams Required | 8-10 per team\n\nDate/Time: Saturday\, July 22\n\nTeam Check-In: 12:00 p.m. (noon)\n\nExtended Registration Deadline: June 30th
X-ALT-DESC;FMTTYPE=text/html:<div class="catalog-description__body">\n<div class="formatted-rich-text">\n<p><span><b><u><font color="#009900" size="4">NEW: REC Retreat: Adult Field Day</font></u></b><br />\nThink back to your favorite day of grade school...it was Field Day\, right?! We&rsquo\;re bringing back all of your favorite games from relays to water games\, and more! Teams will compete head-to-head to determine the Champs of the REC Retreat. Don&rsquo\;t miss out on this throwback to grade school\, but for adults! Food trucks &amp\; beverages available for purchase (west stadium concessions)!<br />\n<strong><font color="#cc0000">Teams will need to pre-register to participate!</font></strong></span></p>\n\n<p><span><strong>Fee: </strong>$125 per team (Includes Team Shirt)<br />\n<b>Ages: </b>21 and older<br />\n<b>Team Info:</b> <font color="#ff0000"><b>Coed Teams Required</b></font> | 8-10 per team<br />\n<b>Date/Time: </b>Saturday\, July 22<br />\n<b>Team Check-In:</b> 12:00 p.m. (noon)<br />\n<font color="#cc0000"><b>Extended Registration Deadline: June 30th</b></font></span></p>\n</div>\n</div>\n
LOCATION:
UID:e.2378.23037
SEQUENCE:3
DTSTAMP:20260425T215241Z
URL:https://business.daviechamber.com/events/details/rec-retreat-adult-field-day-23037
END:VEVENT

END:VCALENDAR
