BEGIN:VCALENDAR
VERSION:2.0
PRODID:-//ChamberMaster//Event Calendar 2.0//EN
METHOD:PUBLISH
X-PUBLISHED-TTL:P3D
REFRESH-INTERVAL:P3D
CALSCALE:GREGORIAN
BEGIN:VEVENT
DTSTART:20151110T153000Z
DTEND:20151110T170000Z
X-MICROSOFT-CDO-ALLDAYEVENT:FALSE
SUMMARY:Recovery Yoga
DESCRIPTION:This class combines yoga with tools from the 12-step program. Intended for anyone dealing with their own addictive behaviors or affected by the addictive behaviors of others\, such as family members.
X-ALT-DESC;FMTTYPE=text/html:This class combines yoga with tools from the 12-step program. Intended for anyone dealing with their own addictive behaviors or affected by the addictive behaviors of others\, such as family members.
LOCATION:Davie Wellness Center 142 Gaither Street Mocksville\, NC 27028
UID:e.2378.4286
SEQUENCE:3
DTSTAMP:20260422T060321Z
URL:https://business.daviechamber.com/events/details/recovery-yoga-11-10-2015-4286
END:VEVENT

END:VCALENDAR
