BEGIN:VCALENDAR
VERSION:2.0
PRODID:-//ChamberMaster//Event Calendar 2.0//EN
METHOD:PUBLISH
X-PUBLISHED-TTL:P3D
REFRESH-INTERVAL:P3D
CALSCALE:GREGORIAN
BEGIN:VEVENT
DTSTART:20230810T130000Z
DTEND:20230810T153000Z
X-MICROSOFT-CDO-ALLDAYEVENT:FALSE
SUMMARY:Relax! Join our Stress Management & Work Life Balance Workshop! $200 OFF!
DESCRIPTION:I n today's busy world it can seem difficult to reduce stress and have a balanced life. Invest in yourself at our exclusive 2.5 hour in-person workshop.\n\nStress is a natural part of life\, however\, too much of it can have negative effects on our mental and physical health. This stress management workshop is designed to help participants understand the causes and symptoms of stress\, learn their current stress score\, as well as provide them with practical strategies to manage and reduce stress levels.\n\nThrough a combination of lecture\, discussion\, and hands-on activities\, participants will learn how to identify sources of stress in their lives\, recognize the signs and symptoms of stress\, and develop effective coping mechanisms. The workshop will cover a variety of stress-reduction techniques\, and time management strategies to live a more balanced life.\n\nParticipants will also have the opportunity to practice these techniques in a supportive and collaborative environment\, and receive feedback and guidance from the instructor. By the end of the workshop\, participants will have a better understanding of stress and how to manage it in their daily lives\, leading to a more balanced life with improved mental and physical well-being.\n\nR egister NOW to catch a break with us!
X-ALT-DESC;FMTTYPE=text/html:<p style="margin: 0px\; padding: 0px\; box-sizing: border-box\; color: rgb(111\, 114\, 135)\; font-size: 16px\; line-height: 1.5rem\; font-family: &quot\;Neue Plak&quot\;\, -apple-system\, BlinkMacSystemFont\, Roboto\, &quot\;Helvetica Neue&quot\;\, Helvetica\, Tahoma\, Arial\, sans-serif\;"><span style="font-size:18px\;"><span style="font-family:tahoma\;"><span style="color:#333333\;">I&#65279\;n today&#39\;s busy world it can seem difficult to reduce stress and have a balanced life. Invest in yourself at our exclusive 2.5 hour in-person workshop.</span></span></span></p>\n\n<p style="margin: 0px\; padding: 10px 0px 0px\; box-sizing: border-box\; color: rgb(111\, 114\, 135)\; font-size: 16px\; line-height: 1.5rem\; font-family: &quot\;Neue Plak&quot\;\, -apple-system\, BlinkMacSystemFont\, Roboto\, &quot\;Helvetica Neue&quot\;\, Helvetica\, Tahoma\, Arial\, sans-serif\;"><span style="font-size:18px\;"><span style="font-family:tahoma\;"><span style="color:#333333\;">Stress is a natural part of life\, however\, too much of it can have negative effects on our mental and physical health. This stress management workshop is designed to help participants understand the causes and symptoms of stress\, learn their current stress score\, as well as provide them with practical strategies to manage and reduce stress levels.</span></span></span></p>\n\n<p style="margin: 0px\; padding: 10px 0px 0px\; box-sizing: border-box\; color: rgb(111\, 114\, 135)\; font-size: 16px\; line-height: 1.5rem\; font-family: &quot\;Neue Plak&quot\;\, -apple-system\, BlinkMacSystemFont\, Roboto\, &quot\;Helvetica Neue&quot\;\, Helvetica\, Tahoma\, Arial\, sans-serif\;"><span style="font-size:18px\;"><span style="font-family:tahoma\;"><span style="color:#333333\;">Through a combination of lecture\, discussion\, and hands-on activities\, participants will learn how to identify sources of stress in their lives\, recognize the signs and symptoms of stress\, and develop effective coping mechanisms. The workshop will cover a variety of stress-reduction techniques\, and time management strategies to live a more balanced life.</span></span></span></p>\n\n<p style="margin: 0px\; padding: 10px 0px 0px\; box-sizing: border-box\; color: rgb(111\, 114\, 135)\; font-size: 16px\; line-height: 1.5rem\; font-family: &quot\;Neue Plak&quot\;\, -apple-system\, BlinkMacSystemFont\, Roboto\, &quot\;Helvetica Neue&quot\;\, Helvetica\, Tahoma\, Arial\, sans-serif\;"><span style="font-size:18px\;"><span style="font-family:tahoma\;"><span style="color:#333333\;">Participants will also have the opportunity to practice these techniques in a supportive and collaborative environment\, and receive feedback and guidance from the instructor. By the end of the workshop\, participants will have a better understanding of stress and how to manage it in their daily lives\, leading to a more balanced life with improved mental and physical well-being.</span></span></span></p>\n\n<p style="margin: 0px\; padding: 10px 0px 0px\; box-sizing: border-box\; color: rgb(111\, 114\, 135)\; font-size: 16px\; line-height: 1.5rem\; font-family: &quot\;Neue Plak&quot\;\, -apple-system\, BlinkMacSystemFont\, Roboto\, &quot\;Helvetica Neue&quot\;\, Helvetica\, Tahoma\, Arial\, sans-serif\;"><span style="font-size:18px\;"><span style="font-family:tahoma\;"><span style="color:#333333\;">R&#65279\;egister NOW to catch a break with us!</span></span></span></p>\n
LOCATION:Davie Chamber
UID:e.2378.23148
SEQUENCE:3
DTSTAMP:20260425T201730Z
URL:https://business.daviechamber.com/events/details/relax-join-our-stress-management-work-life-balance-workshop-200-off-23148
END:VEVENT

END:VCALENDAR
