BEGIN:VCALENDAR
VERSION:2.0
PRODID:-//ChamberMaster//Event Calendar 2.0//EN
METHOD:PUBLISH
X-PUBLISHED-TTL:P3D
REFRESH-INTERVAL:P3D
CALSCALE:GREGORIAN
BEGIN:VEVENT
DTSTART:20170408T110000Z
DTEND:20170409T000000Z
X-MICROSOFT-CDO-ALLDAYEVENT:FALSE
SUMMARY:Relay Day at Maw Maw's Kitchen
DESCRIPTION:A percentage of food sales will be donated to Davie County Relay for Life/The American Cancer Society. Sponsored by The Cancer Clean-Up Crew Team.
X-ALT-DESC;FMTTYPE=text/html:A percentage of food sales will be donated to Davie County Relay for Life/The American Cancer Society. Sponsored by The Cancer Clean-Up Crew Team.
LOCATION:Maw Maw's Kitchen 2615 US Highway 158 Mocksville\, NC 27028
UID:e.2378.11529
SEQUENCE:3
DTSTAMP:20260422T085113Z
URL:https://business.daviechamber.com/events/details/relay-day-at-maw-maw-s-kitchen-11529
END:VEVENT

END:VCALENDAR
