BEGIN:VCALENDAR
VERSION:2.0
PRODID:-//ChamberMaster//Event Calendar 2.0//EN
METHOD:PUBLISH
X-PUBLISHED-TTL:P3D
REFRESH-INTERVAL:P3D
CALSCALE:GREGORIAN
BEGIN:VEVENT
DTSTART:20170427T200000Z
DTEND:20170428T010000Z
X-MICROSOFT-CDO-ALLDAYEVENT:FALSE
SUMMARY:Relay for Life 10% Give Back Night
DESCRIPTION:10% of food sales at Sagebrush Restaurant in Mocksville will be donated to Davie County Relay for Life/The American Cancer Society. Sponsored by Autumn Care of Mocksville Relay for Life Team.
X-ALT-DESC;FMTTYPE=text/html:10% of food sales at Sagebrush Restaurant in Mocksville&nbsp\;will be&nbsp\;donated to Davie County Relay for Life/The American Cancer Society. Sponsored by Autumn Care of Mocksville Relay for Life Team.
LOCATION:Sagebrush Restaurant 1562 Yadkinville Rd Mocksville\, NC 27028
UID:e.2378.11530
SEQUENCE:3
DTSTAMP:20260422T085102Z
URL:https://business.daviechamber.com/events/details/relay-for-life-10-give-back-night-11530
END:VEVENT

END:VCALENDAR
