BEGIN:VCALENDAR
VERSION:2.0
PRODID:-//ChamberMaster//Event Calendar 2.0//EN
METHOD:PUBLISH
X-PUBLISHED-TTL:P3D
REFRESH-INTERVAL:P3D
CALSCALE:GREGORIAN
BEGIN:VEVENT
DTSTART:20170421T110000Z
DTEND:20170421T230000Z
X-MICROSOFT-CDO-ALLDAYEVENT:FALSE
SUMMARY:Relay for Life Yard Sale\, Bake Sale\, Silent Auction
DESCRIPTION:Huge indoor Yard Sale\, Bake Sale and Silent Auction to benefit Relay for Life/The American Cancer Society.
X-ALT-DESC;FMTTYPE=text/html:Huge indoor Yard Sale\, Bake Sale and Silent Auction to benefit Relay for Life/The American Cancer Society.
LOCATION:Bethlehem United Methodist Church Family Life Center 321 Redland Rd Advance\, NC 27006
UID:e.2378.11527
SEQUENCE:3
DTSTAMP:20260422T085622Z
URL:https://business.daviechamber.com/events/details/relay-for-life-yard-sale-bake-sale-silent-auction-11527
END:VEVENT

END:VCALENDAR
