BEGIN:VCALENDAR
VERSION:2.0
PRODID:-//ChamberMaster//Event Calendar 2.0//EN
METHOD:PUBLISH
X-PUBLISHED-TTL:P3D
REFRESH-INTERVAL:P3D
CALSCALE:GREGORIAN
BEGIN:VEVENT
DTSTART:20230711T204500Z
DTEND:20230711T211500Z
X-MICROSOFT-CDO-ALLDAYEVENT:FALSE
SUMMARY:Ribbon Cutting - Blue Heron Trail
DESCRIPTION:Grand Opening/Ribbon Cutting - Blue Heron Trail Pedestrian Bridge off of Hwy. 158\n \n\nThe Town of Bermuda Run and the Davie County Chamber of Commerce invite you to celebrate the grand opening of the long-awaited Blue Heron Trail with a ribbon-cutting ceremony on Tuesday\, July 11\, 2023. There will be two ribbon cuttings\, the first at 4:45 PM at the pedestrian bridge on the trail\, located on Hwy. 158 just past Kinderton Blvd. Parking is available in the Kinderton Business Park\, Kinderton Blvd. The second ribbon-cutting ceremony is at 5:15 PM at the entrance to the trail tunnel located at the Kinderton Village access on Lakeside Crossing. Street parking is available.
X-ALT-DESC;FMTTYPE=text/html:<div class="xdj266r x11i5rnm xat24cr x1mh8g0r x1vvkbs" style="margin: 0px\; overflow-wrap: break-word\; font-family: inherit\;"><span class="x193iq5w xeuugli x13faqbe x1vvkbs x1xmvt09 x1lliihq x1s928wv xhkezso x1gmr53x x1cpjm7i x1fgarty x1943h6x xudqn12 x3x7a5m x6prxxf xvq8zen xo1l8bm xzsf02u" dir="auto" style="word-break: break-word\; max-width: 100%\; display: block\; overflow-wrap: break-word\; min-width: 0px\; line-height: 1.3333\; margin-top: 16px\;"><span style="font-size:16px\;"><span style="font-family:tahoma\;"><span style="color:#000000\;">Grand Opening/Ribbon Cutting - Blue Heron Trail Pedestrian Bridge off of Hwy. 158</span></span></span></span>\n<p style="margin: 0px\; padding: 0px\; color: rgb(96\, 109\, 120)\; font-family: Helvetica\, Arial\, sans-serif\; font-size: 16px\;">&nbsp\;</p>\n\n<p style="margin: 0px\; padding: 0px\; color: rgb(96\, 109\, 120)\; font-family: Helvetica\, Arial\, sans-serif\; font-size: 16px\;"><span style="font-size:16px\;"><span style="font-family:tahoma\;"><span style="color:#000000\;">The Town of Bermuda Run and the Davie County Chamber of Commerce invite you to celebrate the grand opening of the long-awaited Blue Heron Trail with a ribbon-cutting ceremony on&nbsp\;<span style="font-weight: bold\;">Tuesday\, July 11\, 2023</span>. There will be two ribbon cuttings\, the first at&nbsp\;<span style="font-weight: bold\;">4:45 PM</span>&nbsp\;at the pedestrian bridge on the trail\, located on Hwy. 158 just past Kinderton Blvd. Parking is available in the Kinderton Business Park\, Kinderton Blvd. The second ribbon-cutting ceremony is at&nbsp\;<span style="font-weight: bold\;">5:15 PM</span>&nbsp\;at the entrance to the trail tunnel located at the Kinderton Village access on Lakeside Crossing. Street parking is available.</span></span></span></p>\n</div>\n
LOCATION:Blue Heron Trail Pedestrian Bridge off of Hwy. 158
UID:e.2378.23065
SEQUENCE:3
DTSTAMP:20260425T225637Z
URL:https://business.daviechamber.com/events/details/ribbon-cutting-blue-heron-trail-23065
END:VEVENT

END:VCALENDAR
