BEGIN:VCALENDAR
VERSION:2.0
PRODID:-//ChamberMaster//Event Calendar 2.0//EN
METHOD:PUBLISH
X-PUBLISHED-TTL:P3D
REFRESH-INTERVAL:P3D
CALSCALE:GREGORIAN
BEGIN:VEVENT
DTSTART:20230711T211500Z
DTEND:20230711T214500Z
X-MICROSOFT-CDO-ALLDAYEVENT:FALSE
SUMMARY:Ribbon Cutting - Blue Heron Trail
DESCRIPTION:Location - Blue Heron Trail Tunnel at Kinderton Village\n\n\n\nThe Town of Bermuda Run and the Davie County Chamber of Commerce invite you to celebrate the grand opening of the long-awaited Blue Heron Trail with a ribbon-cutting ceremony on Tuesday\, July 11\, 2023. There will be two ribbon cuttings\, the first at 4:45 PM at the pedestrian bridge on the trail\, located on Hwy. 158 just past Kinderton Blvd. Parking is available in the Kinderton Business Park\, Kinderton Blvd. The second ribbon-cutting ceremony is at 5:15 PM at the entrance to the trail tunnel located at the Kinderton Village access on Lakeside Crossing. Street parking is available.
X-ALT-DESC;FMTTYPE=text/html:<span style="font-size:16px\;"><span style="font-family:tahoma\;"><span style="color:#000000\;">Location - Blue Heron Trail Tunnel at Kinderton Village</span></span></span><br />\n<br />\n<span style="color: rgb(0\, 0\, 0)\; font-family: tahoma\; font-size: 16px\;">The Town of Bermuda Run and the Davie County Chamber of Commerce invite you to celebrate the grand opening of the long-awaited Blue Heron Trail with a ribbon-cutting ceremony on&nbsp\;</span><span style="color: rgb(0\, 0\, 0)\; font-family: tahoma\; font-size: 16px\; font-weight: bold\;">Tuesday\, July 11\, 2023</span><span style="color: rgb(0\, 0\, 0)\; font-family: tahoma\; font-size: 16px\;">. There will be two ribbon cuttings\, the first at&nbsp\;</span><span style="color: rgb(0\, 0\, 0)\; font-family: tahoma\; font-size: 16px\; font-weight: bold\;">4:45 PM</span><span style="color: rgb(0\, 0\, 0)\; font-family: tahoma\; font-size: 16px\;">&nbsp\;at the pedestrian bridge on the trail\, located on Hwy. 158 just past Kinderton Blvd. Parking is available in the Kinderton Business Park\, Kinderton Blvd. The second ribbon-cutting ceremony is at&nbsp\;</span><span style="color: rgb(0\, 0\, 0)\; font-family: tahoma\; font-size: 16px\; font-weight: bold\;">5:15 PM</span><span style="color: rgb(0\, 0\, 0)\; font-family: tahoma\; font-size: 16px\;">&nbsp\;at the entrance to the trail tunnel located at the Kinderton Village access on Lakeside Crossing. Street parking is available.</span>
LOCATION:Tunnel at Kinderton Village
UID:e.2378.23066
SEQUENCE:3
DTSTAMP:20260425T214838Z
URL:https://business.daviechamber.com/events/details/ribbon-cutting-blue-heron-trail-23066
END:VEVENT

END:VCALENDAR
