BEGIN:VCALENDAR
VERSION:2.0
PRODID:-//ChamberMaster//Event Calendar 2.0//EN
METHOD:PUBLISH
X-PUBLISHED-TTL:P3D
REFRESH-INTERVAL:P3D
CALSCALE:GREGORIAN
BEGIN:VEVENT
DTSTART:20230317T153000Z
DTEND:20230317T160000Z
X-MICROSOFT-CDO-ALLDAYEVENT:FALSE
SUMMARY:Ribbon Cutting for Liberty Sheds
DESCRIPTION:Join us to celebrate the ribbon cutting for Liberty Sheds!\n\n\n\nWith two manufacturing facilities and dozens of sales locations throughout North Carolina\, it's hard to believe Liberty's story began in a barn. Bobby Eaton\, the owner of a large construction company used leftover materials to build sheds. Eventually\, the design was perfected\, and sales began. Today the company enjoys a reputation for providing custom storage sheds and living spaces with superior quality\, detail\, and craftsmanship. Providing almost 100 jobs in North Carolina\, Liberty has become a pillar of the economic landscape. Many changes have occurred over the years including the office of President being turned over from the founder\, Bobby Eaton\, to Weston Leibee in 2022. Embracing the founding principles of traditional family values and hard work\, Weston currently leads the Liberty team. His commitment to remaining a faith-based company with a heart for people is seen through contributions to local charities each year\, paid time off for employees to volunteer\, and sponsorship of community events. From humble beginnings to a stable and respected company\, Liberty Sheds is excited to meet the future. There is little doubt Liberty will continue to meet the needs of local communities through exceptional products and active benevolence.
X-ALT-DESC;FMTTYPE=text/html:<span style="font-size:16px\;"><span style="font-family:tahoma\;">Join us to celebrate the ribbon cutting for Liberty Sheds!<br />\n<br />\n<span style="caret-color: rgb(32\, 33\, 36)\; letter-spacing: 0.20000000298023224px\; white-space: pre-wrap\;">With two manufacturing facilities and dozens of sales locations throughout North Carolina\, it&rsquo\;s hard to believe Liberty&rsquo\;s story began in a barn. Bobby Eaton\, the owner of a large construction company used leftover materials to build sheds. Eventually\, the design was perfected\, and sales began. Today the company enjoys a reputation for providing custom storage sheds and living spaces with superior quality\, detail\, and craftsmanship. Providing almost 100 jobs in North Carolina\, Liberty has become a pillar of the economic landscape. Many changes have occurred over the years including the office of President being turned over from the founder\, Bobby Eaton\, to Weston Leibee in 2022. Embracing the founding principles of traditional family values and hard work\, Weston currently leads the Liberty team. His commitment to remaining a faith-based company with a heart for people is seen through contributions to local charities each year\, paid time off for employees to volunteer\, and sponsorship of community events. From humble beginnings to a stable and respected company\, Liberty Sheds is excited to meet the future. There is little doubt Liberty will continue to meet the needs of local communities through exceptional products and active benevolence. </span></span></span>
LOCATION:Liberty Sheds
UID:e.2378.22775
SEQUENCE:3
DTSTAMP:20260424T103814Z
URL:https://business.daviechamber.com/events/details/ribbon-cutting-for-liberty-sheds-22775
END:VEVENT

END:VCALENDAR
