BEGIN:VCALENDAR
VERSION:2.0
PRODID:-//ChamberMaster//Event Calendar 2.0//EN
METHOD:PUBLISH
X-PUBLISHED-TTL:P3D
REFRESH-INTERVAL:P3D
CALSCALE:GREGORIAN
BEGIN:VEVENT
DTSTART:20250410T203000Z
DTEND:20250410T210000Z
X-MICROSOFT-CDO-ALLDAYEVENT:FALSE
SUMMARY:Ribbon Cutting for Meg Brown Home Furnishings
DESCRIPTION:Exciting News! Meg Brown Home Furnishings is expanding with the grand opening of their NEW Outdoor Living area! You're invited to help them celebrate with a ribbon-cutting ceremony!\n\nAt Meg Brown Home Furnishings\, they believe furniture shopping should be a personal experience not just a click away! Visit the 15\,000-square-foot showroom\, where you can see\, touch\, and feel the latest styles\, with many items ready to take home the same day. The expert design team at Meg Brown is here to help with everything from fabric selection to the finishing touches.\n\n  Ribbon Cutting Celebration Includes:\n\n  Door Prize   Enter to win an exclusive giveaway!\n\n  Delicious Refreshments to enjoy while you browse.\n\n  Special Deal   10% off all in-stock outdoor furniture for a limited time!\n\nSince 2006\, Meg Brown Home Furnishings has proudly served o community\, building lasting relationships and ensuring customer satisfaction. We're excited to celebrate with you!\n\nCome celebrate with us\, meet our team\, and explore the Meg Brown difference! We look forward to seeing you!
X-ALT-DESC;FMTTYPE=text/html:<p data-end="175" data-start="91"><span style="font-size:18px\;"><span style="font-family:tahoma\;"><span style="color:#000000\;"><span style="white-space-collapse: preserve\;">Exciting News! </span></span><a data-link-type="web" href="https://megbrown.com/" rel="noopener noreferrer" style="text-decoration-line: none\; color: rgb(3\, 61\, 92)\; font-weight: bold\; font-size: 14px\; white-space-collapse: preserve\; font-family: &quot\;Open Sans&quot\;\, sans-serif\;" target="_blank"><span style="color:#000000\;">Meg Brown Home Furnishings</span></a><span style="color:#000000\;"><span style="white-space-collapse: preserve\;"> is expanding with the grand opening of their NEW Outdoor Living area! You&#39\;re invited to help them celebrate with a ribbon-cutting ceremony!</span></span></span></span></p>\n\n<p data-end="654" data-start="272"><span style="font-size:18px\;"><span style="font-family:tahoma\;"><span style="color:#000000\;">At <strong data-end="305" data-start="275">Meg Brown Home Furnishings</strong>\, they&nbsp\;believe furniture shopping should be a <strong data-end="372" data-start="349">personal experience</strong>&mdash\;not just a click away! Visit the&nbsp\;<strong data-end="437" data-start="406">15\,000-square-foot showroom</strong>\, where you can <strong data-end="477" data-start="453">see\, touch\, and feel</strong> the latest styles\, with many items ready to take home the same day. The&nbsp\;<strong data-end="572" data-start="550">expert design team </strong><strong data-end="572" data-start="550">at Meg Brown</strong> is here to help with everything from fabric selection to the finishing touches.</span></span></span></p>\n\n<p data-end="902" data-start="656"><span style="font-size:18px\;"><span style="font-family:tahoma\;"><span style="color:#000000\;">&#127881\; <strong data-end="699" data-start="659">Ribbon Cutting Celebration Includes:</strong><br data-end="702" data-start="699" />\n&#9989\; <strong data-end="718" data-start="704">Door Prize</strong> &ndash\; Enter to win an exclusive giveaway!<br data-end="759" data-start="756" />\n&#9989\; <strong data-end="787" data-start="761">Delicious Refreshments</strong> to enjoy while you browse.<br data-end="817" data-start="814" />\n&#9989\; <strong data-end="835" data-start="819">Special Deal</strong> &ndash\; <strong data-end="880" data-start="838">10% off all in-stock outdoor furniture</strong> for a limited time!</span></span></span></p>\n\n<p data-end="1057" data-start="904"><span style="font-size:18px\;"><span style="font-family:tahoma\;"><span style="color:#000000\;">Since 2006\, Meg Brown Home Furnishings has proudly served o&nbsp\;community\, building lasting relationships and ensuring customer satisfaction. We&rsquo\;re excited to celebrate with you!</span></span></span></p>\n\n<p data-end="1206" data-start="1097"><span style="font-size:18px\;"><span style="font-family:tahoma\;"><span style="color:#000000\;">Come celebrate with us\, meet our team\, and explore the Meg Brown difference! We look forward to seeing you!</span></span></span></p>\n
LOCATION:Meg Brown Home Furnishings
UID:e.2378.25336
SEQUENCE:3
DTSTAMP:20260426T021810Z
URL:https://business.daviechamber.com/events/details/ribbon-cutting-for-meg-brown-home-furnishings-25336
END:VEVENT

END:VCALENDAR
