BEGIN:VCALENDAR
VERSION:2.0
PRODID:-//ChamberMaster//Event Calendar 2.0//EN
METHOD:PUBLISH
X-PUBLISHED-TTL:P3D
REFRESH-INTERVAL:P3D
CALSCALE:GREGORIAN
BEGIN:VEVENT
DTSTART:20230317T160000Z
DTEND:20230317T163000Z
X-MICROSOFT-CDO-ALLDAYEVENT:FALSE
SUMMARY:Ribbon Cutting for Steelman's Ace Hardware
DESCRIPTION:Join us for a ribbon cutting for Steelman's Ace Hardware's brand new geenhouse! Come enjoy refreshments in a family-friendly environment while you meet the staff and owners as well as learn more about their involvement in the Davie community.\n\n\n\nFor over 30 years\, the residents of Bermuda Run\, NC and surrounding communities have trusted us\, Steelman's Ace Hardware\, to provide them with all their hardware needs. From STIHL equipment and service to Benjamin Moore Paints to Weber grills to gardening  we have it all! We are committed to being "The Helpful Place\," by offering our customers knowledgeable advice\, helpful service\, and quality products. As the helpful hardware folks in your community\, we promise that "Helping you is the most important thing we have to do today."
X-ALT-DESC;FMTTYPE=text/html:<span style="font-size:16px\;"><span style="font-family:tahoma\;">Join us for a ribbon cutting for Steelman&#39\;s Ace Hardware&#39\;s brand new geenhouse! Come enjoy refreshments in a family-friendly environment while you meet the staff and owners as well as learn more about their involvement in the Davie community.<br />\n<br />\n<span style="letter-spacing: 0.2px\; white-space: pre-wrap\;">For over 30 years\, the residents of Bermuda Run\, NC and surrounding communities have trusted us\, Steelman&rsquo\;s Ace Hardware\, to provide them with all their hardware needs. From STIHL equipment and service to Benjamin Moore Paints to Weber grills to gardening&ndash\; we have it all! We are committed to being &ldquo\;The Helpful Place\,&rdquo\; by offering our customers knowledgeable advice\, helpful service\, and quality products. As the helpful hardware folks in your community\, we promise that &ldquo\;Helping you is the most important thing we have to do today.&rdquo\;</span></span></span>
LOCATION:Steelman's Ace Hardware
UID:e.2378.22776
SEQUENCE:3
DTSTAMP:20260424T103728Z
URL:https://business.daviechamber.com/events/details/ribbon-cutting-for-steelman-s-ace-hardware-22776
END:VEVENT

END:VCALENDAR
