BEGIN:VCALENDAR
VERSION:2.0
PRODID:-//ChamberMaster//Event Calendar 2.0//EN
METHOD:PUBLISH
X-PUBLISHED-TTL:P3D
REFRESH-INTERVAL:P3D
CALSCALE:GREGORIAN
BEGIN:VEVENT
DTSTART:20260309T160000Z
DTEND:20260309T170000Z
X-MICROSOFT-CDO-ALLDAYEVENT:FALSE
SUMMARY:Ribbon Cutting for Take 5 Oil Change
DESCRIPTION:Join us as we celebrate Take 5 Oil Change with an official Ribbon Cutting!\n\nCommunity members\, Chamber partners and local leaders are encouraged to attend.\n\n\n\nLight lunch and beverages will be served
X-ALT-DESC;FMTTYPE=text/html:<font face="arial"><span style="font-size: 14px\;">Join us as we celebrate Take 5 Oil Change with an official Ribbon Cutting!<br />\nCommunity members\, Chamber partners and local leaders are encouraged to attend.<br />\n<br />\nLight lunch and beverages will be served</span></font>
LOCATION:
UID:e.2378.30442
SEQUENCE:3
DTSTAMP:20260424T105455Z
URL:https://business.daviechamber.com/events/details/ribbon-cutting-for-take-5-oil-change-30442
END:VEVENT

END:VCALENDAR
