BEGIN:VCALENDAR
VERSION:2.0
PRODID:-//ChamberMaster//Event Calendar 2.0//EN
METHOD:PUBLISH
X-PUBLISHED-TTL:P3D
REFRESH-INTERVAL:P3D
CALSCALE:GREGORIAN
BEGIN:VEVENT
DTSTART:20230713T153000Z
DTEND:20230713T160000Z
X-MICROSOFT-CDO-ALLDAYEVENT:FALSE
SUMMARY:Ribbon Cutting | Modwash Car Wash
DESCRIPTION:ModWash is an express car wash with a commitment to quality service\, professional car care\, and doing good for our communities. Founded in 2020\, this woman owned company has become the fastest growing car wash in the nation. We like to think that with every wash\, we're delivering something special. Driving a clean car feels good\, and we want to spread that feeling of pride across every community we serve. We offer competitive monthly memberships with price points to fit everyone's budget. Included in our membership and single washes are complimentary high-pressure vacuums\, carts with fresh towels for detailing\, and window cleaner. ModWash also offers a 20% discount for veterans\, nurses\, first responders and students.\n\n\n\nRefreshments will be available\, and there will be many activities happening during the event\, including giveaways and FREE car washes from 11:30am   1:30pm.
X-ALT-DESC;FMTTYPE=text/html:<span style="font-size:16px\;"><span style="font-family:tahoma\;"><span style="color:#000000\;"><span style="letter-spacing: 0.2px\; white-space-collapse: preserve\;">ModWash is an express car wash with a commitment to quality service\, professional car care\, and doing good for our communities. Founded in 2020\, this woman owned company has become the fastest growing car wash in the nation. We like to think that with every wash\, we&rsquo\;re delivering something special. Driving a clean car feels good\, and we want to spread that feeling of pride across every community we serve. We offer competitive monthly memberships with price points to fit everyone&rsquo\;s budget. Included in our membership and single washes are complimentary high-pressure vacuums\, carts with fresh towels for detailing\, and window cleaner. ModWash also offers a 20% discount for veterans\, nurses\, first responders and students.</span><br />\n<br />\nRefreshments will be available\, and there will be many activities happening during the event\, including giveaways and FREE car washes from 11:30am &ndash\; 1:30pm.</span></span></span>
LOCATION:Modwash Car Wash
UID:e.2378.23043
SEQUENCE:3
DTSTAMP:20260425T214949Z
URL:https://business.daviechamber.com/events/details/ribbon-cutting-modwash-car-wash-23043
END:VEVENT

END:VCALENDAR
