BEGIN:VCALENDAR
VERSION:2.0
PRODID:-//ChamberMaster//Event Calendar 2.0//EN
METHOD:PUBLISH
X-PUBLISHED-TTL:P3D
REFRESH-INTERVAL:P3D
CALSCALE:GREGORIAN
BEGIN:VEVENT
DTSTART:20230504T203000Z
DTEND:20230504T210000Z
X-MICROSOFT-CDO-ALLDAYEVENT:FALSE
SUMMARY:Ribbon Cutting | The Punchy Spur Western Store
DESCRIPTION:Join us to celebrate the ribbon cutting for The Punchy Spur Western Store! Enjoy refreshments and door prizes as you hear from owner\, Brita Mcilwain\, on her journey to Downtown Mocksville!\n\n\n\nAt the Punchy Spur\, they strive to give you the best in the West when it comes to Western Fashion and everyday wear without breaking the bank! They offer Men and Women's clothing and footwear and carry top brands such as Ariat and Panhandle Slim\, while working constantly on more partnerships to bring you a variety of goods!\n\nWhether you need an everyday comfortable outfit\, something for a night on the town\, something to wear while working the ranch or whether you are getting all gussied up for the NFR\, you are in good hands at The Punchy Spur Western Spur!\n\n\n\nMilitary\, Healthcare\, First Responders and teachers receive 15% off their purchase every day in store.
X-ALT-DESC;FMTTYPE=text/html:<span style="font-size:16px\;">Join us to celebrate the ribbon cutting for The Punchy Spur Western Store! Enjoy refreshments and door prizes as you hear from owner\, Brita Mcilwain\, on her journey to Downtown Mocksville!<br />\n<br />\nAt the Punchy Spur\, they strive to give you the best in the West when it comes to Western Fashion and everyday wear without breaking the bank! They offer Men and Women&#39\;s clothing and footwear and carry top brands such as Ariat and Panhandle Slim\, while working constantly on more partnerships to bring you a variety of goods!<br />\n<span style="letter-spacing: 0.2px\; white-space: pre-wrap\;">Whether you need an everyday comfortable outfit\, something for a night on the town\, something to wear while working the ranch or whether you are getting all gussied up for the NFR\, you are in good hands at The Punchy Spur Western Spur!</span><br />\n<br />\n<span style="color:#000000\;"><span style="font-family:tahoma\;"><span style="letter-spacing: 0.2px\; white-space: pre-wrap\;">Military\, Healthcare\, First Responders and teachers receive 15% off their purchase every day in store.</span></span></span></span>
LOCATION:The Punchy Spur Western Store (Downtown Mocksville)
UID:e.2378.22867
SEQUENCE:3
DTSTAMP:20260424T130303Z
URL:https://business.daviechamber.com/events/details/ribbon-cutting-the-punchy-spur-western-store-22867
END:VEVENT

END:VCALENDAR
