BEGIN:VCALENDAR
VERSION:2.0
PRODID:-//ChamberMaster//Event Calendar 2.0//EN
METHOD:PUBLISH
X-PUBLISHED-TTL:P3D
REFRESH-INTERVAL:P3D
CALSCALE:GREGORIAN
BEGIN:VEVENT
DTSTART:20161015T150000Z
DTEND:20161015T160000Z
X-MICROSOFT-CDO-ALLDAYEVENT:FALSE
SUMMARY:RiverPark Catfish Fry
DESCRIPTION:RiverPark will hold its 15th Annual Catfish Fry on Saturday\, October 15. There will be a silent auction\, and proceeds enable RiverPark\, Inc. to keep the park open\, clean\, and safe for families and park patrons.
X-ALT-DESC;FMTTYPE=text/html:RiverPark will hold its 15th&nbsp\;Annual Catfish Fry on Saturday\, October 15. There will be a silent auction\, and proceeds enable RiverPark\, Inc. to keep the park open\, clean\, and safe for families and park patrons.
LOCATION:Margaret Woodson Picnic Shelter Erwin Temple Church Rd Cooleemee\, NC 27014
UID:e.2378.10127
SEQUENCE:3
DTSTAMP:20260422T190817Z
URL:https://business.daviechamber.com/events/details/riverpark-catfish-fry-10127
END:VEVENT

END:VCALENDAR
