BEGIN:VCALENDAR
VERSION:2.0
PRODID:-//ChamberMaster//Event Calendar 2.0//EN
METHOD:PUBLISH
X-PUBLISHED-TTL:P3D
REFRESH-INTERVAL:P3D
CALSCALE:GREGORIAN
BEGIN:VEVENT
DTSTART:20160318T210000Z
DTEND:20160319T010000Z
X-MICROSOFT-CDO-ALLDAYEVENT:FALSE
SUMMARY:Rock-A-Thon
DESCRIPTION:There will be non-stop music\, entertainment\, games and giveaways throughout the event. Food and drink will be on sale for the entire period. Become a Rock-A-Teer and help us raise money or just come out and enjoy the fun. All proceeds go to Senior Services.
X-ALT-DESC;FMTTYPE=text/html:There will be non-stop music\, entertainment\, games and giveaways throughout the event. Food and drink will be on sale for the entire period. Become a Rock-A-Teer and help us raise money or just come out and enjoy the fun. All proceeds go to Senior Services.
LOCATION:Bobby H. Knight Senior Services Building 278 Meroney Street\, Mocksville
UID:e.2378.4540
SEQUENCE:3
DTSTAMP:20260423T053737Z
URL:https://business.daviechamber.com/events/details/rock-a-thon-03-18-2016-4540
END:VEVENT

END:VCALENDAR
