BEGIN:VCALENDAR
VERSION:2.0
PRODID:-//ChamberMaster//Event Calendar 2.0//EN
METHOD:PUBLISH
X-PUBLISHED-TTL:P3D
REFRESH-INTERVAL:P3D
CALSCALE:GREGORIAN
BEGIN:VEVENT
DTSTART:20180323T210000Z
DTEND:20180324T000000Z
X-MICROSOFT-CDO-ALLDAYEVENT:FALSE
SUMMARY:Rock-A-Thon
DESCRIPTION:Our "Rockateers" will be busy rocking the night away as they earn money for Davie County Senior Services. The entire community is invited to enjoy non-stop entertainment. Come hungry because Hot Diggity Dogs will be on hand with a food cart throughout the event. Featured entertainment is the band "Branded". Photo Booth\, Cornhole\, Face Painting\, Sand Table
X-ALT-DESC;FMTTYPE=text/html:Our &quot\;Rockateers&quot\; will be busy rocking the night away as they earn money for Davie County Senior Services. The entire community is invited to enjoy non-stop entertainment. Come hungry because Hot Diggity Dogs will be on hand with a food cart throughout the event. Featured entertainment is the band &quot\;Branded&quot\;. Photo Booth\, Cornhole\, Face Painting\, Sand Table
LOCATION:Rescue House Church 653 Wilkesboro St. Mocksville\, NC 27028
UID:e.2378.13644
SEQUENCE:3
DTSTAMP:20260421T180847Z
URL:https://business.daviechamber.com/events/details/rock-a-thon-03-23-2018-13644
END:VEVENT

END:VCALENDAR
