BEGIN:VCALENDAR
VERSION:2.0
PRODID:-//ChamberMaster//Event Calendar 2.0//EN
METHOD:PUBLISH
X-PUBLISHED-TTL:P3D
REFRESH-INTERVAL:P3D
CALSCALE:GREGORIAN
BEGIN:VEVENT
DTSTART:20250328T210000Z
DTEND:20250329T000000Z
X-MICROSOFT-CDO-ALLDAYEVENT:FALSE
SUMMARY:Rock-a-thon Senior Services Fundraiser Event
DESCRIPTION:For three hours\, "Rock-A-Teers" will rock in rocking chairs.\n\nRock-A-Teers are part of a team and have gotten donations to sponsor their time rocking.\n\nAnyone in the community is invited to form a team and/or attend the event.\n\nThe event will feature musical entertainment by Christina Raine\, female vocalist and guitarist of Square Roots.\n\nShe will play hits from the 1960's-2000's.\n\nEric and K's BBQ and Jason's Italian Ice will be available from which to purchase food. Form a team\, become a Rock-A-Teer\, donate to a team or just come out and enjoy the fun.\n\nThe event is free to attend (although donation are appreciated). All proceeds go to Senior Services.
X-ALT-DESC;FMTTYPE=text/html:<div class="xdj266r x11i5rnm xat24cr x1mh8g0r x1vvkbs" style="margin: 0px\; overflow-wrap: break-word\; font-family: &quot\;Segoe UI Historic&quot\;\, &quot\;Segoe UI&quot\;\, Helvetica\, Arial\, sans-serif\; color: rgb(8\, 8\, 9)\; font-size: 15px\;"><span style="font-size:18px\;"><span style="font-family:tahoma\;"><span style="color:#000000\;">For three hours\, &ldquo\;Rock-A-Teers&rdquo\; will rock in rocking chairs.</span></span></span></div>\n\n<div class="x11i5rnm xat24cr x1mh8g0r x1vvkbs xtlvy1s" style="margin: 0.5em 0px 0px\; overflow-wrap: break-word\; font-family: &quot\;Segoe UI Historic&quot\;\, &quot\;Segoe UI&quot\;\, Helvetica\, Arial\, sans-serif\; color: rgb(8\, 8\, 9)\; font-size: 15px\;"><span style="font-size:18px\;"><span style="font-family:tahoma\;"><span style="color:#000000\;">Rock-A-Teers are part of a team and have gotten donations to sponsor their time rocking.</span></span></span></div>\n\n<div class="x11i5rnm xat24cr x1mh8g0r x1vvkbs xtlvy1s" style="margin: 0.5em 0px 0px\; overflow-wrap: break-word\; font-family: &quot\;Segoe UI Historic&quot\;\, &quot\;Segoe UI&quot\;\, Helvetica\, Arial\, sans-serif\; color: rgb(8\, 8\, 9)\; font-size: 15px\;"><span style="font-size:18px\;"><span style="font-family:tahoma\;"><span style="color:#000000\;">Anyone in the community is invited to form a team and/or attend the event.</span></span></span></div>\n\n<div class="x11i5rnm xat24cr x1mh8g0r x1vvkbs xtlvy1s" style="margin: 0.5em 0px 0px\; overflow-wrap: break-word\; font-family: &quot\;Segoe UI Historic&quot\;\, &quot\;Segoe UI&quot\;\, Helvetica\, Arial\, sans-serif\; color: rgb(8\, 8\, 9)\; font-size: 15px\;"><span style="font-size:18px\;"><span style="font-family:tahoma\;"><span style="color:#000000\;">The event will feature musical entertainment by Christina Raine\, female vocalist and guitarist of Square Roots.</span></span></span></div>\n\n<div class="x11i5rnm xat24cr x1mh8g0r x1vvkbs xtlvy1s" style="margin: 0.5em 0px 0px\; overflow-wrap: break-word\; font-family: &quot\;Segoe UI Historic&quot\;\, &quot\;Segoe UI&quot\;\, Helvetica\, Arial\, sans-serif\; color: rgb(8\, 8\, 9)\; font-size: 15px\;"><span style="font-size:18px\;"><span style="font-family:tahoma\;"><span style="color:#000000\;">She will play hits from the 1960&rsquo\;s-2000&rsquo\;s.</span></span></span></div>\n\n<div class="x11i5rnm xat24cr x1mh8g0r x1vvkbs xtlvy1s" style="margin: 0.5em 0px 0px\; overflow-wrap: break-word\; font-family: &quot\;Segoe UI Historic&quot\;\, &quot\;Segoe UI&quot\;\, Helvetica\, Arial\, sans-serif\; color: rgb(8\, 8\, 9)\; font-size: 15px\;"><span style="font-size:18px\;"><span style="font-family:tahoma\;"><span style="color:#000000\;">Eric and K&rsquo\;s BBQ and Jason&rsquo\;s Italian Ice will be available from which to purchase food. Form a team\, become a Rock-A-Teer\, donate to a team or just come out and enjoy the fun.</span></span></span></div>\n\n<div class="x11i5rnm xat24cr x1mh8g0r x1vvkbs xtlvy1s" style="margin: 0.5em 0px 0px\; overflow-wrap: break-word\; font-family: &quot\;Segoe UI Historic&quot\;\, &quot\;Segoe UI&quot\;\, Helvetica\, Arial\, sans-serif\; color: rgb(8\, 8\, 9)\; font-size: 15px\;"><span style="font-size:18px\;"><span style="font-family:tahoma\;"><span style="color:#000000\;">The event is free to attend (although donation are appreciated). All proceeds go to Senior Services.</span></span></span></div>\n
LOCATION:Rescue House Church
UID:e.2378.25356
SEQUENCE:3
DTSTAMP:20260426T034504Z
URL:https://business.daviechamber.com/events/details/rock-a-thon-senior-services-fundraiser-event-25356
END:VEVENT

END:VCALENDAR
