BEGIN:VCALENDAR
VERSION:2.0
PRODID:-//ChamberMaster//Event Calendar 2.0//EN
METHOD:PUBLISH
X-PUBLISHED-TTL:P3D
REFRESH-INTERVAL:P3D
CALSCALE:GREGORIAN
BEGIN:VEVENT
DTSTART:20160521T190000Z
DTEND:20160521T210000Z
X-MICROSOFT-CDO-ALLDAYEVENT:FALSE
SUMMARY:Rockin' for Ron
DESCRIPTION:Fundraiser for the Kirk Scholarship for Davie High School.\n\n	Food\n	Music\n	Reunions\n	Fun\n\nCome out and sing along!
X-ALT-DESC;FMTTYPE=text/html:<br />\nFundraiser for the Kirk Scholarship for Davie High School.\n<ul>\n	<li>Food</li>\n	<li>Music</li>\n	<li>Reunions</li>\n	<li>Fun</li>\n</ul>\nCome out and sing along!
LOCATION:4 Oaks Event Center 142 N. Main Street\, Mocksville
UID:e.2378.5160
SEQUENCE:3
DTSTAMP:20260423T004641Z
URL:https://business.daviechamber.com/events/details/rockin-for-ron-05-21-2016-5160
END:VEVENT

END:VCALENDAR
