BEGIN:VCALENDAR
VERSION:2.0
PRODID:-//ChamberMaster//Event Calendar 2.0//EN
METHOD:PUBLISH
X-PUBLISHED-TTL:P3D
REFRESH-INTERVAL:P3D
CALSCALE:GREGORIAN
BEGIN:VEVENT
DTSTART:20260121T160000Z
DTEND:20260121T173000Z
X-MICROSOFT-CDO-ALLDAYEVENT:FALSE
SUMMARY:Roll & Read Playgroup Event
DESCRIPTION:Join Smart Start of Davie County for a Roll & Read playgroup at the Davie Community Park.\n\nWalk along the Storybook Trail and read\, then join us for crafts and activities!\n\nEvent is FREE and Rain or shine.\n\n\n\nDavie Community Park 151 Southwood Drive Mocksville\, NC 27028\n\nWednesday\, Jan. 21 11:00 am - 12:30 pm
X-ALT-DESC;FMTTYPE=text/html:Join Smart Start of Davie County for a Roll &amp\; Read playgroup at the Davie Community Park.<br />\nWalk along the Storybook Trail and read\, then join us for crafts and activities!<br />\nEvent is&nbsp\;FREE and Rain or shine.<br />\n<br />\nDavie Community Park 151 Southwood Drive Mocksville\, NC 27028<br />\nWednesday\, Jan. 21 11:00 am - 12:30 pm
LOCATION:
UID:e.2378.29298
SEQUENCE:3
DTSTAMP:20260424T133339Z
URL:https://business.daviechamber.com/events/details/roll-read-playgroup-event-29298
END:VEVENT

END:VCALENDAR
