BEGIN:VCALENDAR
VERSION:2.0
PRODID:-//ChamberMaster//Event Calendar 2.0//EN
METHOD:PUBLISH
X-PUBLISHED-TTL:P3D
REFRESH-INTERVAL:P3D
CALSCALE:GREGORIAN
BEGIN:VEVENT
DTSTART:20160514T100000Z
DTEND:20160514T160000Z
X-MICROSOFT-CDO-ALLDAYEVENT:FALSE
SUMMARY:Run for Fun 5K
DESCRIPTION:We are a nonprofit looking to host a 5k at Rich Park.\n\nYou can find out more about us at footprintsoflove.org
X-ALT-DESC;FMTTYPE=text/html:We are a nonprofit looking to host a 5k at Rich Park.<br />\nYou can find out more about us at footprintsoflove.org
LOCATION:Rich Park Cemetery St\, Mocksville
UID:e.2378.4873
SEQUENCE:3
DTSTAMP:20260423T022604Z
URL:https://business.daviechamber.com/events/details/run-for-fun-5k-05-14-2016-4873
END:VEVENT

END:VCALENDAR
