BEGIN:VCALENDAR
VERSION:2.0
PRODID:-//ChamberMaster//Event Calendar 2.0//EN
METHOD:PUBLISH
X-PUBLISHED-TTL:P3D
REFRESH-INTERVAL:P3D
CALSCALE:GREGORIAN
BEGIN:VEVENT
DTSTART:20250315T120000Z
DTEND:20250316T034500Z
X-MICROSOFT-CDO-ALLDAYEVENT:FALSE
SUMMARY:Saint Patrick's Day Celebration
DESCRIPTION:Join us for a full day of Saint Patrick's Day shenanigans!!! We will open at 8 am for an Irish breakfast\, followed by music with Soundkraft from 2:30 until 5:30 then The Megan Doss band at 7. We will be have a special limited menu and all drink specials. We can't wait to celebrate with you!
X-ALT-DESC;FMTTYPE=text/html:<span style="color:#000000\;"><span style="font-size:18px\;"><span style="font-family:tahoma\;"><span style="caret-color: rgb(8\, 8\, 9)\;">Join us for a full day of Saint Patrick&#39\;s Day shenanigans!!! We will open at 8 am for an Irish breakfast\, followed by music with Soundkraft from 2:30 until 5:30 then The Megan Doss band at 7. We will be have a special limited menu and all drink specials. We can&#39\;t wait to celebrate with you!</span></span></span></span>
LOCATION:O'Callahans
UID:e.2378.25316
SEQUENCE:3
DTSTAMP:20260426T034230Z
URL:https://business.daviechamber.com/events/details/saint-patrick-s-day-celebration-25316
END:VEVENT

END:VCALENDAR
