BEGIN:VCALENDAR
VERSION:2.0
PRODID:-//ChamberMaster//Event Calendar 2.0//EN
METHOD:PUBLISH
X-PUBLISHED-TTL:P3D
REFRESH-INTERVAL:P3D
CALSCALE:GREGORIAN
BEGIN:VEVENT
DTSTART:20160426T220000Z
DTEND:20160426T233000Z
X-MICROSOFT-CDO-ALLDAYEVENT:FALSE
SUMMARY:Savvy Women Smart Investers Educational Workshop
DESCRIPTION:Come join us for dinner and an educational seminar " Savvy women Smart investors take charge of your financial future." This workshop is specific to women and how they can help grow their financial future. Hosted by Financial Advisor Eric Haughwout of Edward Jones in Advance.
X-ALT-DESC;FMTTYPE=text/html:Come join us for dinner and an educational seminar &quot\; Savvy women Smart investors take charge of your financial future.&quot\; This workshop is specific to women and how they can help grow their financial future. Hosted by Financial Advisor Eric Haughwout of Edward Jones in Advance.
LOCATION:Milner Brothers 2391 Lewisville Clemmons Rd Clemmons\, NC 27012
UID:e.2378.4552
SEQUENCE:3
DTSTAMP:20260421T233703Z
URL:https://business.daviechamber.com/events/details/savvy-women-smart-investers-educational-workshop-04-26-2016-4552
END:VEVENT

END:VCALENDAR
