BEGIN:VCALENDAR
VERSION:2.0
PRODID:-//ChamberMaster//Event Calendar 2.0//EN
METHOD:PUBLISH
X-PUBLISHED-TTL:P3D
REFRESH-INTERVAL:P3D
CALSCALE:GREGORIAN
BEGIN:VEVENT
DTSTART:20160827T170000Z
DTEND:20160827T200000Z
X-MICROSOFT-CDO-ALLDAYEVENT:FALSE
SUMMARY:Scrapbooking with Wes Kennedy
DESCRIPTION:Come learn the fun craft of scrapbooking and take home some great starter pages
X-ALT-DESC;FMTTYPE=text/html:Come learn the fun craft of scrapbooking and take home some great starter pages
LOCATION:Scarlett's Unique Boutique 185 N. Main St Mocksville\, NC 27028
UID:e.2378.7508
SEQUENCE:3
DTSTAMP:20260421T164802Z
URL:https://business.daviechamber.com/events/details/scrapbooking-with-wes-kennedy-08-27-2016-7508
END:VEVENT

END:VCALENDAR
