BEGIN:VCALENDAR
VERSION:2.0
PRODID:-//ChamberMaster//Event Calendar 2.0//EN
METHOD:PUBLISH
X-PUBLISHED-TTL:P3D
REFRESH-INTERVAL:P3D
CALSCALE:GREGORIAN
BEGIN:VEVENT
DTSTART:20260122T170000Z
DTEND:20260122T200000Z
X-MICROSOFT-CDO-ALLDAYEVENT:FALSE
SUMMARY:Senior Expo\, Shred Event & Senior Games Kickoff
DESCRIPTION:Join Senior Services for this exciting event. The expo will feature health screenings\, health information and vendors\, plus the shred truck will be available on site to shred sensitive documents. In addition\, this event will be the kickoff for Senior Games and registration forms will be available at the event. Open to the community of all ages.
X-ALT-DESC;FMTTYPE=text/html:Join Senior Services for this exciting event. The expo will feature health screenings\, health information and vendors\, plus the shred truck will be available on site to shred sensitive documents. In addition\, this event will be the kickoff for Senior Games and registration forms will be available at the event. Open to the community of all ages.
LOCATION:Senior Services Brock Campus Gym
UID:e.2378.29506
SEQUENCE:3
DTSTAMP:20260424T133918Z
URL:https://business.daviechamber.com/events/details/senior-expo-shred-event-senior-games-kickoff-29506
END:VEVENT

END:VCALENDAR
