BEGIN:VCALENDAR
VERSION:2.0
PRODID:-//ChamberMaster//Event Calendar 2.0//EN
METHOD:PUBLISH
X-PUBLISHED-TTL:P3D
REFRESH-INTERVAL:P3D
CALSCALE:GREGORIAN
BEGIN:VEVENT
DTSTART:20171019T210000Z
DTEND:20171020T010000Z
X-MICROSOFT-CDO-ALLDAYEVENT:FALSE
SUMMARY:Senior Services Night at Sagebrush
DESCRIPTION:Come out to Sagebrush in Mocksville tonight for dinner. They will donate a portion of all their sales to Senior Services.
X-ALT-DESC;FMTTYPE=text/html:Come out to Sagebrush in Mocksville tonight for dinner. They will donate a portion of all their sales to Senior Services.
LOCATION:Sagebrush of Mocksville
UID:e.2378.12172
SEQUENCE:3
DTSTAMP:20260422T000211Z
URL:https://business.daviechamber.com/events/details/senior-services-night-at-sagebrush-12172
END:VEVENT

END:VCALENDAR
