BEGIN:VCALENDAR
VERSION:2.0
PRODID:-//ChamberMaster//Event Calendar 2.0//EN
METHOD:PUBLISH
X-PUBLISHED-TTL:P3D
REFRESH-INTERVAL:P3D
CALSCALE:GREGORIAN
BEGIN:VEVENT
DTSTART:20170503T130000Z
DTEND:20170503T150000Z
X-MICROSOFT-CDO-ALLDAYEVENT:FALSE
SUMMARY:Setting Up Your Company on Quickbooks
DESCRIPTION:Setting up your company is the first piece of the start-up process. Whether you are using a manual accounting system or an online software\, such as Quickbooks\, you need to cover all of the bases.\n\n\n\nListed outcomes and learning opportunities:\n\n1. Learn the checklist of things that you need to do to property set up your business\;\n\n2. Be able to apply the checklist approach to setting up an accounting system\;\n\n3. Go through the checklist and apply the items to your business.\n\nSpeaker(s): Sandy Edwards
X-ALT-DESC;FMTTYPE=text/html:<p style="padding: 5px 0px\; margin: 0px\; text-align: justify\; line-height: 1.5em\; font-family: Arial\, Helvetica\, sans-serif\; font-size: 12px\; background-color: rgb(255\, 255\, 255)\;">Setting up your company is the first piece of the start-up process. Whether you are using a manual accounting system or an online software\, such as Quickbooks\, you need to cover all of the bases.<br style="padding: 0px\; margin: 0px\;" />\n<br style="padding: 0px\; margin: 0px\;" />\nListed outcomes and learning opportunities:<br style="padding: 0px\; margin: 0px\;" />\n1. Learn the checklist of things that you need to do to property set up your business\;<br style="padding: 0px\; margin: 0px\;" />\n2. Be able to apply the checklist approach to setting up an accounting system\;<br style="padding: 0px\; margin: 0px\;" />\n3. Go through the checklist and apply the items to your business.</p>\n\n<p style="padding: 5px 0px\; margin: 0px\; text-align: justify\; line-height: 1.5em\; font-family: Arial\, Helvetica\, sans-serif\; font-size: 12px\; background-color: rgb(255\, 255\, 255)\;">Speaker(s): Sandy Edwards</p>\n
LOCATION:120 Kinderton Blvd Bermuda Run\, NC 27
UID:e.2378.11682
SEQUENCE:3
DTSTAMP:20260421T081654Z
URL:https://business.daviechamber.com/events/details/setting-up-your-company-on-quickbooks-11682
END:VEVENT

END:VCALENDAR
