BEGIN:VCALENDAR
VERSION:2.0
PRODID:-//ChamberMaster//Event Calendar 2.0//EN
METHOD:PUBLISH
X-PUBLISHED-TTL:P3D
REFRESH-INTERVAL:P3D
CALSCALE:GREGORIAN
BEGIN:VEVENT
DTSTART:20160212T233000Z
DTEND:20160213T033000Z
X-MICROSOFT-CDO-ALLDAYEVENT:FALSE
SUMMARY:Share the Love
DESCRIPTION:Share the Love with your special someone while stepping back in time to the Roaring 20's for a night of fun for a great cause! The evening includes hors d'Oeuvres\, dinner\, dessert\, guest speaker\, live and silent auctions\, cash bar\, DJ and a fun photo booth with complementary photos. Proceeds benefit The Dragonfly House Children's Advocacy Center\, serving local child victims of abuse.
X-ALT-DESC;FMTTYPE=text/html:Share the Love with your special someone while stepping back in time to the Roaring 20&#39\;s for a night of fun for a great cause! The evening includes hors d&#39\;Oeuvres\, dinner\, dessert\, guest speaker\, live and silent auctions\, cash bar\, DJ and a fun photo booth with complementary photos. Proceeds benefit The Dragonfly House Children&#39\;s Advocacy Center\, serving local child victims of abuse.
LOCATION:WinMock at Kinderton
UID:e.2378.944
SEQUENCE:3
DTSTAMP:20260423T070035Z
URL:https://business.daviechamber.com/events/details/share-the-love-02-12-2016-944
END:VEVENT

END:VCALENDAR
