BEGIN:VCALENDAR
VERSION:2.0
PRODID:-//ChamberMaster//Event Calendar 2.0//EN
METHOD:PUBLISH
X-PUBLISHED-TTL:P3D
REFRESH-INTERVAL:P3D
CALSCALE:GREGORIAN
BEGIN:VEVENT
DTSTART:20230718T203000Z
DTEND:20230718T230000Z
X-MICROSOFT-CDO-ALLDAYEVENT:FALSE
SUMMARY:Silo Business Social
DESCRIPTION:Join us for the Silo Business Social at WinMock in Bermuda Run\, NC. This networking event will showcase our event spaces. We are excited to meet and treat you to complimentary hors d'oeuvres\, beer\, and wine. See you there!
X-ALT-DESC;FMTTYPE=text/html:Join us for the Silo Business Social at WinMock in Bermuda Run\, NC. This networking event will showcase our event spaces. We are excited to meet and treat you to complimentary hors d&#39\;oeuvres\, beer\, and wine. See you there!
LOCATION:168 E. Kinderton Way\, Bermuda Run NC 27006
UID:e.2378.23046
SEQUENCE:3
DTSTAMP:20260425T225605Z
URL:https://business.daviechamber.com/events/details/silo-business-social-23046
END:VEVENT

END:VCALENDAR
