BEGIN:VCALENDAR
VERSION:2.0
PRODID:-//ChamberMaster//Event Calendar 2.0//EN
METHOD:PUBLISH
X-PUBLISHED-TTL:P3D
REFRESH-INTERVAL:P3D
CALSCALE:GREGORIAN
BEGIN:VEVENT
DTSTART:20160903T200000Z
DTEND:20160903T230000Z
X-MICROSOFT-CDO-ALLDAYEVENT:FALSE
SUMMARY:Sip and Paint
DESCRIPTION:Bring light snack and wine.
X-ALT-DESC;FMTTYPE=text/html:<span style="line-height: 20.8px\;">Bring light snack and wine.</span>
LOCATION:Scarlett's Unique Boutique 185 N Main St Mocksville\, NC 27028
UID:e.2378.9132
SEQUENCE:3
DTSTAMP:20260421T154003Z
URL:https://business.daviechamber.com/events/details/sip-and-paint-09-03-2016-9132
END:VEVENT

END:VCALENDAR
