BEGIN:VCALENDAR
VERSION:2.0
PRODID:-//ChamberMaster//Event Calendar 2.0//EN
METHOD:PUBLISH
X-PUBLISHED-TTL:P3D
REFRESH-INTERVAL:P3D
CALSCALE:GREGORIAN
BEGIN:VEVENT
DTSTART:20160915T223000Z
DTEND:20160916T010000Z
X-MICROSOFT-CDO-ALLDAYEVENT:FALSE
SUMMARY:Sip and Paint
DESCRIPTION:Come paint a Gorgeous Cross on canvas!
X-ALT-DESC;FMTTYPE=text/html:Come paint a Gorgeous Cross on canvas!
LOCATION:Scarlett's Unique Boutique
UID:e.2378.9215
SEQUENCE:3
DTSTAMP:20260421T153425Z
URL:https://business.daviechamber.com/events/details/sip-and-paint-09-15-2016-9215
END:VEVENT

END:VCALENDAR
