BEGIN:VCALENDAR
VERSION:2.0
PRODID:-//ChamberMaster//Event Calendar 2.0//EN
METHOD:PUBLISH
X-PUBLISHED-TTL:P3D
REFRESH-INTERVAL:P3D
CALSCALE:GREGORIAN
BEGIN:VEVENT
DTSTART:20170203T230000Z
DTEND:20170204T040000Z
X-MICROSOFT-CDO-ALLDAYEVENT:FALSE
SUMMARY:Smart Start's Hoedown Fundraiser
DESCRIPTION:Smart Start of Davie County\, a non-profit organization offering early learning and education programs to young children in our community\, announces it's annual fundraiser! Proceeds from event supports literacy programs\, home visiting & teen parenting\, trainings for teachers\, and more. All of the funding for our Dolly Parton Imagination Library program\, which sends over 900 books EACH MONTH to children in Davie County\, is raised at this event!
X-ALT-DESC;FMTTYPE=text/html:Smart Start of Davie County\, a non-profit organization offering early learning and education programs to young children in our community\, announces it&#39\;s annual fundraiser! Proceeds from event supports literacy programs\, home visiting &amp\; teen parenting\, trainings for teachers\, and more. All of the funding for our Dolly Parton Imagination Library program\, which sends over 900 books EACH MONTH to children in Davie County\, is raised at this event!
LOCATION:WinMock at Kinderton 168 E. Kinderton Way Bermuda Run\, 27006
UID:e.2378.7448
SEQUENCE:3
DTSTAMP:20260422T112502Z
URL:https://business.daviechamber.com/events/details/smart-start-s-hoedown-fundraiser-02-03-2017-7448
END:VEVENT

END:VCALENDAR
