BEGIN:VCALENDAR
VERSION:2.0
PRODID:-//ChamberMaster//Event Calendar 2.0//EN
METHOD:PUBLISH
X-PUBLISHED-TTL:P3D
REFRESH-INTERVAL:P3D
CALSCALE:GREGORIAN
BEGIN:VEVENT
DTSTART:20240727T160000Z
DTEND:20240727T180000Z
X-MICROSOFT-CDO-ALLDAYEVENT:FALSE
SUMMARY:Smooches with Pooches | The Station
DESCRIPTION:Join us this Saturday at Station for "Smooches with Pooches". Paul\, Honey and Bruno will be available to slobber you with wt\, sloppy kisses.\n\nWe will also be collecting pet food for our Community Pet Food Pantry\, especially kitten and cat food (wet or dry). We see an increase this time of year because of kitten season.
X-ALT-DESC;FMTTYPE=text/html:<span style="font-size:18px\;"><span style="font-family:tahoma\;"><span style="color:#000000\;">Join us this Saturday at Station for &quot\;Smooches with Pooches&quot\;. Paul\, Honey and Bruno will be available to slobber you with wt\, sloppy kisses.<br class="html-br" style="color: rgb(5\, 5\, 5)\; font-family: &quot\;Segoe UI Historic&quot\;\, &quot\;Segoe UI&quot\;\, Helvetica\, Arial\, sans-serif\; font-size: 15px\;" />\nWe will also be collecting pet food for our Community Pet Food Pantry\, especially kitten and cat food (wet or dry). We see an increase this time of year because of kitten season.</span></span></span>
LOCATION:The Station
UID:e.2378.24530
SEQUENCE:3
DTSTAMP:20260421T055517Z
URL:https://business.daviechamber.com/events/details/smooches-with-pooches-the-station-24530
END:VEVENT

END:VCALENDAR
