BEGIN:VCALENDAR
VERSION:2.0
PRODID:-//ChamberMaster//Event Calendar 2.0//EN
METHOD:PUBLISH
X-PUBLISHED-TTL:P3D
REFRESH-INTERVAL:P3D
CALSCALE:GREGORIAN
BEGIN:VEVENT
DTSTART:20230702T170000Z
DTEND:20230702T220000Z
X-MICROSOFT-CDO-ALLDAYEVENT:FALSE
SUMMARY:Snickety Snacks Food Truck
DESCRIPTION:Bringing people together via your favorite snacks!
X-ALT-DESC;FMTTYPE=text/html:<span style="font-size:16px\;"><span style="font-family:tahoma\;"><span style="color:#000000\;">Bringing people together via your favorite snacks!</span></span></span>
LOCATION:The Station
UID:e.2378.23028
SEQUENCE:3
DTSTAMP:20260425T214949Z
URL:https://business.daviechamber.com/events/details/snickety-snacks-food-truck-23028
END:VEVENT

END:VCALENDAR
