BEGIN:VCALENDAR
VERSION:2.0
PRODID:-//ChamberMaster//Event Calendar 2.0//EN
METHOD:PUBLISH
X-PUBLISHED-TTL:P3D
REFRESH-INTERVAL:P3D
CALSCALE:GREGORIAN
BEGIN:VEVENT
DTSTART:20230712T210000Z
DTEND:20230713T000000Z
X-MICROSOFT-CDO-ALLDAYEVENT:FALSE
SUMMARY:Snickety Snacks Food Truck
DESCRIPTION:Bringing people together via your favorite snacks. Snickety Snacks Food Truck offers a variety of carnival snacks and desserts from funnel cakes\, cotton candy\, popcorn\, deep fried oreos\, and nachos and cheese!
X-ALT-DESC;FMTTYPE=text/html:<span style="color:#000000\;"><span style="font-size:16px\;"><span style="font-family:tahoma\;">Bringing people together via your favorite snacks. Snickety Snacks Food Truck offers a variety of carnival snacks and desserts from funnel cakes\, cotton candy\, popcorn\, deep fried oreos\, and nachos and cheese!</span></span></span>
LOCATION:The Station
UID:e.2378.23059
SEQUENCE:3
DTSTAMP:20260425T230250Z
URL:https://business.daviechamber.com/events/details/snickety-snacks-food-truck-23059
END:VEVENT

END:VCALENDAR
