BEGIN:VCALENDAR
VERSION:2.0
PRODID:-//ChamberMaster//Event Calendar 2.0//EN
METHOD:PUBLISH
X-PUBLISHED-TTL:P3D
REFRESH-INTERVAL:P3D
CALSCALE:GREGORIAN
BEGIN:VEVENT
DTSTART:20230714T230000Z
DTEND:20230715T020000Z
X-MICROSOFT-CDO-ALLDAYEVENT:FALSE
SUMMARY:SoundKraft Live at The Station
DESCRIPTION:SoundKraft brings their hard hitting renditions of Rock's deep cuts from The Beatles\, Dave Matthews\, Matchbox 20\, Zeppelin\, Stone Temple Pilots\, Pearl Jam\, Chris Stapleton\, Aaron Lewis and many more!
X-ALT-DESC;FMTTYPE=text/html:<span style="font-size:18px\;"><span style="color:#666666\;"><span style="font-family:tahoma\;">SoundKraft brings their hard hitting renditions of Rock&#39\;s deep cuts from The Beatles\, Dave Matthews\, Matchbox 20\, Zeppelin\, Stone Temple Pilots\, Pearl Jam\, Chris Stapleton\, Aaron Lewis and many more!</span></span></span>
LOCATION:The Station
UID:e.2378.23076
SEQUENCE:3
DTSTAMP:20260425T214956Z
URL:https://business.daviechamber.com/events/details/soundkraft-live-at-the-station-23076
END:VEVENT

END:VCALENDAR
