BEGIN:VCALENDAR
VERSION:2.0
PRODID:-//ChamberMaster//Event Calendar 2.0//EN
METHOD:PUBLISH
X-PUBLISHED-TTL:P3D
REFRESH-INTERVAL:P3D
CALSCALE:GREGORIAN
BEGIN:VEVENT
DTSTART:20240727T220000Z
DTEND:20240728T010000Z
X-MICROSOFT-CDO-ALLDAYEVENT:FALSE
SUMMARY:SoundKraft | Tanglewood Pizza Company
DESCRIPTION:SoundKraft brings their hard hitting renditions of Rock's deep cuts from The Beatles\, Dave Matthews\, Matchbox 20\, Zeppelin\, Stone Temple Pilots\, Pearl Jam\, Chris Stapleton\, Aaron Lewis and many more!
X-ALT-DESC;FMTTYPE=text/html:<span style="font-size:18px\;"><span style="font-family:tahoma\;"><span style="color:#000000\;">SoundKraft brings their hard hitting renditions of Rock&#39\;s deep cuts from The Beatles\, Dave Matthews\, Matchbox 20\, Zeppelin\, Stone Temple Pilots\, Pearl Jam\, Chris Stapleton\, Aaron Lewis and many more!</span></span></span>
LOCATION:Tanglewood Pizza Company
UID:e.2378.24532
SEQUENCE:3
DTSTAMP:20260421T055557Z
URL:https://business.daviechamber.com/events/details/soundkraft-tanglewood-pizza-company-24532
END:VEVENT

END:VCALENDAR
