BEGIN:VCALENDAR
VERSION:2.0
PRODID:-//ChamberMaster//Event Calendar 2.0//EN
METHOD:PUBLISH
X-PUBLISHED-TTL:P3D
REFRESH-INTERVAL:P3D
CALSCALE:GREGORIAN
BEGIN:VEVENT
DTSTART:20180519T223000Z
DTEND:20180520T030000Z
X-MICROSOFT-CDO-ALLDAYEVENT:FALSE
SUMMARY:Sounds of Summer at the Big Easy!
DESCRIPTION:Travel with the Davie Community Foundation on Saturday\, May 19th to the exciting city of New Orleans   New Orleans at WinMock that is. You don't need to pack a bag or buy new outfits\, you just need a ticket.\n\n\n\nThe ticket price\, $100 per guest\, is the same as last year and is a real bargain when you know the details!\n\n \n\n You'll find a mix of the beads\, masks\, and King Cake of Mardi Gras combined with New Orleans staples of artist's work on Jackson Square\, shopping at the French Market\, lively entertainment on Bourbon Street\, and the delicious Cajun and Creole flavors you can only find in New Orleans!\n\n\n\n"We have basically taken Sounds of Summer and turned it upside down this year"\, said Jane Simpson\, Foundation president. The look will be amazing as we have pulled out all of the stops to make WinMock look and feel like New Orleans! If you have been to Sounds of Summer in the past and think you know the event\, we encourage you to come to the Big Easy! I can promise you it will be like nothing you have ever attended in Davie County before and $100 per ticket will be a true bargain!"\n\n\n\nPurchase Your Tickets Today (Includes Dinner\, Beer & Wine and supports the work of the Davie Community Foundation
X-ALT-DESC;FMTTYPE=text/html:<strong><span style="font-size:12px\;"><span style="font-family: times\\ new\\ roman\;"><span style="font-size:14px\;">Travel with the Davie Community Foundation on Saturday\, May 19<sup><span style="position: relative\; top: -2.5pt\;">th</span></sup>&nbsp\;to the exciting city of New Orleans &ndash\; New Orleans at WinMock that is. You don&rsquo\;t need to pack a bag or buy new outfits\, you just need a ticket.<br />\n<br />\nThe ticket price\, $100 per guest\, is the same as last year and is a real bargain when you know the details!</span><br />\n&nbsp\;<br />\n&#65279\;<span style="font-size:14px\;">You&rsquo\;ll find a mix of the beads\, masks\, and King Cake of Mardi Gras combined with New Orleans staples of artist&rsquo\;s work on Jackson Square\, shopping at the <a href="http://r20.rs6.net/tn.jsp?f=001D6dQNZZftp5e-0Ja1Nt9wwXKmYf-mVf7k6GKs6_eVll6GABwM89vgo286344uOF0aJbdyJBAe69XB5vxi3JP68AGY_XHB619ADuNNADee7zCMD133C5aoL2WI_L2b5Sbw6uCeWMUCCY_y3KbtYJW8Qo1PTMXBqIAxlRBPR03Vqw=&amp\;c=6HBtwz8tOdmvuqYB1UMIDgcOkgDgnuuIPXrE0zRLek8m7jWggIUZcA==&amp\;ch=MLmX-Y9I0IZPYHHMM7SrD8h0iqgs5euIVgCi7Seqx2BqBgRcYvhXlA==" target="_blank">French Market</a>\, lively entertainment on Bourbon Street\, and the delicious Cajun and Creole flavors you can only find in New Orleans!<br />\n<br />\n<em>&ldquo\;We have basically taken Sounds of Summer and turned it upside down this year&rdquo\;\, said Jane Simpson\, Foundation president.&nbsp\;The look will be amazing as we have pulled out all of the stops to make WinMock look and feel like New Orleans! If you have been to Sounds of Summer in the past and think you know&nbsp\;</em></span></span></span></strong><span style="font-size:14px\;"><em><span style="font-family: times\\ new\\ roman\;"><strong>the event\, we encourage you to come to the Big Easy! I can promise you it will be like nothing you have ever attended in Davie County before and $100 per ticket will be a true bargain!&rdquo\;</strong></span></em></span><br />\n<br />\n<span style="font-family:arial\,sans-serif\;"><span style="font-size:10.5pt\;"><a href="http://r20.rs6.net/tn.jsp?f=001D6dQNZZftp5e-0Ja1Nt9wwXKmYf-mVf7k6GKs6_eVll6GABwM89vgu6Xm3crK1GGHpuk9tHTJxFMpRSfCSONElKqXP9Dg9o8ejd6wD57wNI6B5VYf157C-hYWQtQaS-prCITdyBpL_xNdWWvqMQ7oy8Jx7XA4fUVG45LVrlX_uw=&amp\;c=6HBtwz8tOdmvuqYB1UMIDgcOkgDgnuuIPXrE0zRLek8m7jWggIUZcA==&amp\;ch=MLmX-Y9I0IZPYHHMM7SrD8h0iqgs5euIVgCi7Seqx2BqBgRcYvhXlA==" target="_blank"><strong><span style="font-size:13.5pt\;">Purchase Your Tickets Today (Includes Dinner\, Beer &amp\; Wine and supports the work of the Davie Community Foundation</span></strong></a></span></span>
LOCATION:WinMock at Kinderton 168 E. Kinderton Way Bermuda Run\, NC 27006
UID:e.2378.13317
SEQUENCE:3
DTSTAMP:20260421T154510Z
URL:https://business.daviechamber.com/events/details/sounds-of-summer-at-the-big-easy-13317
END:VEVENT

END:VCALENDAR
