BEGIN:VCALENDAR
VERSION:2.0
PRODID:-//ChamberMaster//Event Calendar 2.0//EN
METHOD:PUBLISH
X-PUBLISHED-TTL:P3D
REFRESH-INTERVAL:P3D
CALSCALE:GREGORIAN
BEGIN:VEVENT
DTSTART:20151107T230000Z
DTEND:20151108T010000Z
X-MICROSOFT-CDO-ALLDAYEVENT:FALSE
SUMMARY:SOUPER 5K
DESCRIPTION:Souper 5K\, Tanglewood Park\, Clemmons\, NC \, November 7th at 6:00 p.m. - Join us for a run or walk under the Tanglewood Festival of Lights at the SOUPER 5K to benefit the Manna Meals Soup Ministry on Saturday\, November 7\, 2015 at 6:00 p.m. at Tanglewood Park in Clemmons\, NC. Be the first to see the Tanglewood Festival of Lights and support the Manna Meals Mobile Soup Ministry that feeds hundreds of people in need across Davie and Forsyth Counties. Individual Runner Registration: $30 through 10/31 then $35 after. Family of Four Registration $100 through 10/31 then $120 after. Register online at www.jonesracingcompany.com/souper-5K . Race Day Registration is available on November 6th at Tanglewood Park from 4:00 p.m. - 5:30 p.m. Park closes to vehicle traffic at 5:30 p.m. and the race begins promptly at 6:00 p.m. For further information & updates visit our Facebook page at www.facebook.com/souper5k or www.hillsdaleumc.com .
X-ALT-DESC;FMTTYPE=text/html:Souper 5K\, Tanglewood Park\, Clemmons\, NC \, November 7th at 6:00 p.m. - Join us for a run or walk under the Tanglewood Festival of Lights at the SOUPER 5K to benefit the Manna Meals Soup Ministry on Saturday\, November 7\, 2015 at 6:00 p.m. at Tanglewood Park in Clemmons\, NC. Be the first to see the Tanglewood Festival of Lights and support the Manna Meals Mobile Soup Ministry that feeds hundreds of people in need across Davie and Forsyth Counties. Individual Runner Registration: $30 through 10/31 then $35 after. Family of Four Registration $100 through 10/31 then $120 after. Register online at www.jonesracingcompany.com/souper-5K . Race Day Registration is available on November 6th at Tanglewood Park from 4:00 p.m. - 5:30 p.m. Park closes to vehicle traffic at 5:30 p.m. and the race begins promptly at 6:00 p.m. For further information &amp\; updates visit our Facebook page at www.facebook.com/souper5k or www.hillsdaleumc.com .
LOCATION:Tanglewood Park\, Clemmons\, NC
UID:e.2378.2946
SEQUENCE:3
DTSTAMP:20260423T095041Z
URL:https://business.daviechamber.com/events/details/souper-5k-11-07-2015-2946
END:VEVENT

END:VCALENDAR
