BEGIN:VCALENDAR
VERSION:2.0
PRODID:-//ChamberMaster//Event Calendar 2.0//EN
METHOD:PUBLISH
X-PUBLISHED-TTL:P3D
REFRESH-INTERVAL:P3D
CALSCALE:GREGORIAN
BEGIN:VEVENT
DTSTART:20161112T230000Z
DTEND:20161113T010000Z
X-MICROSOFT-CDO-ALLDAYEVENT:FALSE
SUMMARY:Souper 5K
DESCRIPTION:Join Hillsdale United Methodist Church for a run or walk under the Tanglewood Festival of Lights at the SOUPER 5K to benefit the Manna Meals Soup Ministry on Saturday\, November 12 at 6:00 PM at Tanglewood Park in Clemmons\, NC. Be the first to see the Tanglewood Festival of Lights and support the Manna Meals Mobile Soup Ministry that feeds hundreds of people in need across Davie and Forsyth Counties. Individual Runner Registration: $30 through Monday\, October 31 then $35 after. Family of Four Registration $100 through Monday\, October 31 then $120 after. Register online at www.jonesracingcompany.com/souper-5K . Race Day Registration is available on November 12 at Tanglewood Park from 4:00 PM   5:30 PM Park closes to vehicle traffic at 5:30 PM and the race begins promptly at 6:00 PM For further information & updates visit our Facebook page at www.facebook.com/souper5k or www.hillsdaleumc.com .
X-ALT-DESC;FMTTYPE=text/html:Join Hillsdale United Methodist Church for a run or walk under the Tanglewood Festival of Lights at the SOUPER 5K to benefit the Manna Meals Soup Ministry on Saturday\, November 12 at 6:00 PM at Tanglewood Park in Clemmons\, NC. Be the first to see the Tanglewood Festival of Lights and support the Manna Meals Mobile Soup Ministry that feeds hundreds of people in need across Davie and Forsyth Counties. Individual Runner Registration: $30 through Monday\, October 31 then $35 after. Family of Four Registration $100 through Monday\, October 31 then $120 after. Register online at www.jonesracingcompany.com/souper-5K . Race Day Registration is available on November 12&nbsp\;at Tanglewood Park from 4:00 PM &ndash\; 5:30 PM Park closes to vehicle traffic at 5:30 PM and the race begins promptly at 6:00 PM For further information &amp\; updates visit our Facebook page at www.facebook.com/souper5k or www.hillsdaleumc.com .
LOCATION:Tanglewood Park 4061 Clemmons Rd Clemmons\, NC
UID:e.2378.9462
SEQUENCE:3
DTSTAMP:20260422T154929Z
URL:https://business.daviechamber.com/events/details/souper-5k-9462
END:VEVENT

END:VCALENDAR
