BEGIN:VCALENDAR
VERSION:2.0
PRODID:-//ChamberMaster//Event Calendar 2.0//EN
METHOD:PUBLISH
X-PUBLISHED-TTL:P3D
REFRESH-INTERVAL:P3D
CALSCALE:GREGORIAN
BEGIN:VEVENT
DTSTART:20230728T230000Z
DTEND:20230729T010000Z
X-MICROSOFT-CDO-ALLDAYEVENT:FALSE
SUMMARY:Sour Grapes: Murder Mystery Party
DESCRIPTION:Join us for a sizzling summer gala full of of intrigue\, suspense\, and fine wine at RayLen Vineyards' exclusive murder mystery dinner event\, "Sour Grapes." Prepare to immerse yourself in a world of mystery and deception on July 28th\, from 7:00 to 9:00 pm.\n\nPartnered with That Murder Mystery Girl\, RayLen Vineyards invites you to indulge in a night of thrilling entertainment\, where reality and fiction blend seamlessly. As you step into The Pavilion\, you will be transported back in time\, assuming the identity of your character. Embrace your assigned role\, as it is up to you to bring your character to life with your own unique personality and costume.\n\nThroughout the evening\, tantalize your taste buds with a delectable selection of heavy passed hors-d'oeuvres (menu posted below)\, perfectly complemented by RayLen Vineyards' exquisite wines. Savor the flavors\, but keep your wits about you because danger lurks in every corner.\n\nRemember\, not everyone is who they seem to be. As the night unfolds\, alliances will be formed\, secrets will be revealed\, and someone among us will become a victim of foul play. Could it be you? Or perhaps you will discover the dark side within yourself and become the murderer. Trust no one and watch your back because  MURDER IS IN THE AIR!\n\nPrepare for an evening of mystery\, suspense\, and thrilling surprises. Gather your friends\, don your finest attire\, and join us at RayLen Vineyards on June 28th for Sour Grapes\, an interactive murder mystery experience that will keep you guessing until the very end.\n\nPlease note that this event is 21+ adults only. Costumes are encouraged but not mandatory. Limited spots are available\, so secure your place now for a night of wine\, intrigue\, and deadly secrets.\n\nTickets are $95 per person and include your custom character assignment for the evening\, a heavy hors d'oeuvres dinner\, a glass of wine\, and a fun-filled interactive night of mystery! Once your ticket has been purchased\, our Mystery Coordinators will reach out to collect some additional info from you so they can create your character.\n\nTickets go on sale June 28th at 10:00am!*\n\n*By purchasing this ticket you are agreeing to have your contact information shared with That Murder Mystery Girl. All communication about your character and the details of the evening will be done through this third party vendor.\n\nWorking closely with Pepper Moon Catering\, we have curated a delectable menu that is sure to transport you back to a festive 1930s summertime gala. Help us solve this nail-biting mystery while you nibble on these delicious passed hors d'oeuvres!\n\nMENU\n\n-Grazing table with fresh fruit and veggies\, hummus\, and pita chips\n\n-Shrimp cocktail shooters\n\n-Sesame pork sliders topped with fresh pineapple and sweet chili mayo\n\n-Confetti chicken salad croissants\n\n-Sundried tomato biscuits with homemade pimento cheese\n\n-Deviled potatoes\n\n-Sweet treat station with a variety of homemade dessert bars
X-ALT-DESC;FMTTYPE=text/html:<div class="xdj266r x11i5rnm xat24cr x1mh8g0r x1vvkbs" style="margin: 0px\; overflow-wrap: break-word\; font-family: &quot\;Segoe UI Historic&quot\;\, &quot\;Segoe UI&quot\;\, Helvetica\, Arial\, sans-serif\; color: rgb(5\, 5\, 5)\; font-size: 15px\;"><span style="font-size:16px\;"><span style="font-family:tahoma\;"><span style="color:#333333\;">Join us for a sizzling summer gala full of of intrigue\, suspense\, and fine wine at RayLen Vineyards&rsquo\; exclusive murder mystery dinner event\, &ldquo\;Sour Grapes.&rdquo\; Prepare to immerse yourself in a world of mystery and deception on July 28th\, from 7:00 to 9:00 pm.</span></span></span></div>\n\n<div class="x11i5rnm xat24cr x1mh8g0r x1vvkbs xtlvy1s" style="margin: 0.5em 0px 0px\; overflow-wrap: break-word\; font-family: &quot\;Segoe UI Historic&quot\;\, &quot\;Segoe UI&quot\;\, Helvetica\, Arial\, sans-serif\; color: rgb(5\, 5\, 5)\; font-size: 15px\;"><span style="font-size:16px\;"><span style="font-family:tahoma\;"><span style="color:#333333\;">Partnered with That Murder Mystery Girl\, RayLen Vineyards invites you to indulge in a night of thrilling entertainment\, where reality and fiction blend seamlessly. As you step into The Pavilion\, you will be transported back in time\, assuming the identity of your character. Embrace your assigned role\, as it is up to you to bring your character to life with your own unique personality and costume.</span></span></span></div>\n\n<div class="x11i5rnm xat24cr x1mh8g0r x1vvkbs xtlvy1s" style="margin: 0.5em 0px 0px\; overflow-wrap: break-word\; font-family: &quot\;Segoe UI Historic&quot\;\, &quot\;Segoe UI&quot\;\, Helvetica\, Arial\, sans-serif\; color: rgb(5\, 5\, 5)\; font-size: 15px\;"><span style="font-size:16px\;"><span style="font-family:tahoma\;"><span style="color:#333333\;">Throughout the evening\, tantalize your taste buds with a delectable selection of heavy passed hors-d&rsquo\;oeuvres (menu posted below)\, perfectly complemented by RayLen Vineyards&rsquo\; exquisite wines. Savor the flavors\, but keep your wits about you because danger lurks in every corner.</span></span></span></div>\n\n<div class="x11i5rnm xat24cr x1mh8g0r x1vvkbs xtlvy1s" style="margin: 0.5em 0px 0px\; overflow-wrap: break-word\; font-family: &quot\;Segoe UI Historic&quot\;\, &quot\;Segoe UI&quot\;\, Helvetica\, Arial\, sans-serif\; color: rgb(5\, 5\, 5)\; font-size: 15px\;"><span style="font-size:16px\;"><span style="font-family:tahoma\;"><span style="color:#333333\;">Remember\, not everyone is who they seem to be. As the night unfolds\, alliances will be formed\, secrets will be revealed\, and someone among us will become a victim of foul play. Could it be you? Or perhaps you will discover the dark side within yourself and become the murderer. Trust no one and watch your back because&hellip\; MURDER IS IN THE AIR!</span></span></span></div>\n\n<div class="x11i5rnm xat24cr x1mh8g0r x1vvkbs xtlvy1s" style="margin: 0.5em 0px 0px\; overflow-wrap: break-word\; font-family: &quot\;Segoe UI Historic&quot\;\, &quot\;Segoe UI&quot\;\, Helvetica\, Arial\, sans-serif\; color: rgb(5\, 5\, 5)\; font-size: 15px\;"><span style="font-size:16px\;"><span style="font-family:tahoma\;"><span style="color:#333333\;">Prepare for an evening of mystery\, suspense\, and thrilling surprises. Gather your friends\, don your finest attire\, and join us at RayLen Vineyards on June 28th for Sour Grapes\, an interactive murder mystery experience that will keep you guessing until the very end.</span></span></span></div>\n\n<div class="x11i5rnm xat24cr x1mh8g0r x1vvkbs xtlvy1s" style="margin: 0.5em 0px 0px\; overflow-wrap: break-word\; font-family: &quot\;Segoe UI Historic&quot\;\, &quot\;Segoe UI&quot\;\, Helvetica\, Arial\, sans-serif\; color: rgb(5\, 5\, 5)\; font-size: 15px\;"><span style="font-size:16px\;"><span style="font-family:tahoma\;"><span style="color:#333333\;">Please note that this event is 21+ adults only. Costumes are encouraged but not mandatory. Limited spots are available\, so secure your place now for a night of wine\, intrigue\, and deadly secrets.</span></span></span></div>\n\n<div class="x11i5rnm xat24cr x1mh8g0r x1vvkbs xtlvy1s" style="margin: 0.5em 0px 0px\; overflow-wrap: break-word\; font-family: &quot\;Segoe UI Historic&quot\;\, &quot\;Segoe UI&quot\;\, Helvetica\, Arial\, sans-serif\; color: rgb(5\, 5\, 5)\; font-size: 15px\;"><span style="font-size:16px\;"><span style="font-family:tahoma\;"><span style="color:#333333\;">Tickets are $95 per person and include your custom character assignment for the evening\, a heavy hors d&rsquo\;oeuvres dinner\, a glass of wine\, and a fun-filled interactive night of mystery! Once your ticket has been purchased\, our Mystery Coordinators will reach out to collect some additional info from you so they can create your character.</span></span></span></div>\n\n<div class="x11i5rnm xat24cr x1mh8g0r x1vvkbs xtlvy1s" style="margin: 0.5em 0px 0px\; overflow-wrap: break-word\; font-family: &quot\;Segoe UI Historic&quot\;\, &quot\;Segoe UI&quot\;\, Helvetica\, Arial\, sans-serif\; color: rgb(5\, 5\, 5)\; font-size: 15px\;"><span style="font-size:16px\;"><span style="font-family:tahoma\;"><span style="color:#333333\;">Tickets go on sale June 28th at 10:00am!*</span></span></span></div>\n\n<div class="x11i5rnm xat24cr x1mh8g0r x1vvkbs xtlvy1s" style="margin: 0.5em 0px 0px\; overflow-wrap: break-word\; font-family: &quot\;Segoe UI Historic&quot\;\, &quot\;Segoe UI&quot\;\, Helvetica\, Arial\, sans-serif\; color: rgb(5\, 5\, 5)\; font-size: 15px\;"><span style="font-size:16px\;"><span style="font-family:tahoma\;"><span style="color:#333333\;">*By purchasing this ticket you are agreeing to have your contact information shared with That Murder Mystery Girl. All communication about your character and the details of the evening will be done through this third party vendor.</span></span></span></div>\n\n<div class="x11i5rnm xat24cr x1mh8g0r x1vvkbs xtlvy1s" style="margin: 0.5em 0px 0px\; overflow-wrap: break-word\; font-family: &quot\;Segoe UI Historic&quot\;\, &quot\;Segoe UI&quot\;\, Helvetica\, Arial\, sans-serif\; color: rgb(5\, 5\, 5)\; font-size: 15px\;"><span style="font-size:16px\;"><span style="font-family:tahoma\;"><span style="color:#333333\;">Working closely with Pepper Moon Catering\, we have curated a delectable menu that is sure to transport you back to a festive 1930s summertime gala. Help us solve this nail-biting mystery while you nibble on these delicious passed hors d&#39\;oeuvres!</span></span></span></div>\n\n<div class="x11i5rnm xat24cr x1mh8g0r x1vvkbs xtlvy1s" style="margin: 0.5em 0px 0px\; overflow-wrap: break-word\; font-family: &quot\;Segoe UI Historic&quot\;\, &quot\;Segoe UI&quot\;\, Helvetica\, Arial\, sans-serif\; color: rgb(5\, 5\, 5)\; font-size: 15px\;"><span style="font-size:16px\;"><span style="font-family:tahoma\;"><span style="color:#333333\;">MENU<br />\n-Grazing table with fresh fruit and veggies\, hummus\, and pita chips<br />\n-Shrimp cocktail shooters<br />\n-Sesame pork sliders topped with fresh pineapple and sweet chili mayo<br />\n-Confetti chicken salad croissants<br />\n-Sundried tomato biscuits with homemade pimento cheese<br />\n-Deviled potatoes<br />\n-Sweet treat station with a variety of homemade dessert bars</span></span></span></div>\n
LOCATION:RayLen Vineyards & Winery
UID:e.2378.23119
SEQUENCE:3
DTSTAMP:20260425T214950Z
URL:https://business.daviechamber.com/events/details/sour-grapes-murder-mystery-party-23119
END:VEVENT

END:VCALENDAR
