BEGIN:VCALENDAR
VERSION:2.0
PRODID:-//ChamberMaster//Event Calendar 2.0//EN
METHOD:PUBLISH
X-PUBLISHED-TTL:P3D
REFRESH-INTERVAL:P3D
CALSCALE:GREGORIAN
BEGIN:VEVENT
DTSTART:20230727T223000Z
DTEND:20230728T013000Z
X-MICROSOFT-CDO-ALLDAYEVENT:FALSE
SUMMARY:Sourwood Honey
DESCRIPTION:Aaron and Ellen bring the fun to Thursday night music! Their set list includes your favorites\, along with deep cuts from the 70's and 80's classic rock and county. They offer something for all music lovers.
X-ALT-DESC;FMTTYPE=text/html:<span style="font-size:18px\;"><span style="font-family:tahoma\;"><span style="color:#666666\;">Aaron and Ellen bring the fun to Thursday night music! Their set list includes your favorites\, along with deep cuts from the 70&#39\;s and 80&#39\;s classic rock and county. They offer something for all music lovers.</span></span></span>
LOCATION:O'Callahans
UID:e.2378.23099
SEQUENCE:3
DTSTAMP:20260425T214818Z
URL:https://business.daviechamber.com/events/details/sourwood-honey-23099
END:VEVENT

END:VCALENDAR
